BEGIN:VCALENDAR
VERSION:2.0
PRODID:-//Octubre Centre de Cultura Contemporània - ECPv5.1.6//NONSGML v1.0//EN
CALSCALE:GREGORIAN
METHOD:PUBLISH
X-WR-CALNAME:Octubre Centre de Cultura Contemporània
X-ORIGINAL-URL:https://octubre.cat
X-WR-CALDESC:Events for Octubre Centre de Cultura Contemporània
BEGIN:VTIMEZONE
TZID:Europe/Andorra
BEGIN:DAYLIGHT
TZOFFSETFROM:+0100
TZOFFSETTO:+0200
TZNAME:CEST
DTSTART:20180325T010000
END:DAYLIGHT
BEGIN:STANDARD
TZOFFSETFROM:+0200
TZOFFSETTO:+0100
TZNAME:CET
DTSTART:20181028T010000
END:STANDARD
END:VTIMEZONE
BEGIN:VEVENT
DTSTART;TZID=Europe/Andorra:20180130T180000
DTEND;TZID=Europe/Andorra:20180130T180000
DTSTAMP:20260421T203417
CREATED:20200729T190254Z
LAST-MODIFIED:20200729T190254Z
UID:13322-1517335200-1517335200@octubre.cat
SUMMARY:Tertúlia 'Racisme no\, gràcies!'
DESCRIPTION:Dimarts 30 de gener a les 18.00h. Organitzada pel Seminari TPDv A Muscles dels Gegants amb la col·laboració d’ACPV.  \n  \n  \n\n ni modern ni postmodern  Tertúlia oberta a totes les persones que hagen llegit el llibre Racismo: no\, gracias de R. Flecha i J. Gómez\, o l’article “Racismo moderno y postmoderno en Europa” de R. Flecha.  Assistència per inscripció.  Organitzat pel Seminari TPDv A Muscles dels Gegants\, amb la col·laboració d’ACPV.
URL:https://octubre.cat/activitat/tertulia-racisme-no-gracies/
CATEGORIES:Conferències i congressos
ATTACH;FMTTYPE=image/png:https://octubre.cat/www/wp-content/uploads/2020/07/activitat2962.png
END:VEVENT
END:VCALENDAR