BEGIN:VCALENDAR
VERSION:2.0
PRODID:-//Octubre Centre de Cultura Contemporània - ECPv5.1.6//NONSGML v1.0//EN
CALSCALE:GREGORIAN
METHOD:PUBLISH
X-WR-CALNAME:Octubre Centre de Cultura Contemporània
X-ORIGINAL-URL:https://octubre.cat
X-WR-CALDESC:Events for Octubre Centre de Cultura Contemporània
BEGIN:VTIMEZONE
TZID:Europe/Andorra
BEGIN:DAYLIGHT
TZOFFSETFROM:+0100
TZOFFSETTO:+0200
TZNAME:CEST
DTSTART:20170326T010000
END:DAYLIGHT
BEGIN:STANDARD
TZOFFSETFROM:+0200
TZOFFSETTO:+0100
TZNAME:CET
DTSTART:20171029T010000
END:STANDARD
END:VTIMEZONE
BEGIN:VEVENT
DTSTART;TZID=Europe/Andorra:20171211T190000
DTEND;TZID=Europe/Andorra:20171211T190000
DTSTAMP:20260421T192013
CREATED:20200729T190227Z
LAST-MODIFIED:20200729T190227Z
UID:13294-1513018800-1513018800@octubre.cat
SUMMARY:Tertúlia al voltant del llibre 'Un món millor és possible'\, de Josep Taronger
DESCRIPTION:Dilluns 11 de gener a les 19.00h\, a la llibreria Fan Set.  \n  \n  \n\n “Vaig nàixer a Llíria\, capital de la comarca de Camp de Túria\, un estiu d’eixa llarga i angoixosa postguerra\, una època molt i molt difícil de la història del nostre País i que va costar anys i panys de poder superar. L’única cosa positiva que vaig treure d’eixa etapa de la meua vida\, va ser la immensa estima a la meua llengua i al meu País.”  (Denes)
URL:https://octubre.cat/activitat/tertulia-al-voltant-del-llibre-un-mon-millor-es-possible-de-josep-taronger/
LOCATION:Llibreria Fan Set
CATEGORIES:Literatura
ATTACH;FMTTYPE=image/png:https://octubre.cat/www/wp-content/uploads/2020/07/activitat2933.png
END:VEVENT
END:VCALENDAR