BEGIN:VCALENDAR
VERSION:2.0
PRODID:-//Octubre Centre de Cultura Contemporània - ECPv5.1.6//NONSGML v1.0//EN
CALSCALE:GREGORIAN
METHOD:PUBLISH
X-WR-CALNAME:Octubre Centre de Cultura Contemporània
X-ORIGINAL-URL:https://octubre.cat
X-WR-CALDESC:Events for Octubre Centre de Cultura Contemporània
BEGIN:VTIMEZONE
TZID:Europe/Andorra
BEGIN:DAYLIGHT
TZOFFSETFROM:+0100
TZOFFSETTO:+0200
TZNAME:CEST
DTSTART:20130331T010000
END:DAYLIGHT
BEGIN:STANDARD
TZOFFSETFROM:+0200
TZOFFSETTO:+0100
TZNAME:CET
DTSTART:20131027T010000
END:STANDARD
END:VTIMEZONE
BEGIN:VEVENT
DTSTART;TZID=Europe/Andorra:20130530T193000
DTEND;TZID=Europe/Andorra:20130530T193000
DTSTAMP:20260424T002815
CREATED:20200729T170046Z
LAST-MODIFIED:20200729T184125Z
UID:9545-1369942200-1369942200@octubre.cat
SUMMARY:Teresa Broseta i Josep Ribera
DESCRIPTION:Dijous 30 de maig a les 19.30h: Teresa Broseta i Josep Ribera  \n  \n  \n\n Teresa Broseta (València\, 1963) és llicenciada en Ciències de l’Educació per la Universitat de València i en Filologia Hispànica per la UNED. Actualment treballa en l’Agència Tributària. En 2001 va rebre el Premi Carmesina de narrativa infantil per la seua primera obra de narrativa infantil\, La botiga del Carme (Edicions del Bullent)\, i va començar així a obrir-se camí en el món editorial. Encara que escriu fonamentalment narrativa\, bàsicament per a xiquets i quasi sempre en valencià\, ha publicat també poesia i teatre per a xiquets\, narrativa per a adults i diverses obres en castellà. També ha publicat relats breus en algunes publicacions periòdiques\, i ha fet algunes traduccions de castellà a valencià i viceversa.  Josep Ribera  (Faura\, Camp de Morvedre\,1966) és llicenciat en Filologia Catalana i Anglogermànica per la Universitat de València\, i doctor en Filologia Catalana amb la tesi La cohesió lèxica en les seqüències narratives\, la qual va obtindre el premi Pompeu Fabra de Gramàtica de l’Institut d’Estudis Catalans l’any 2009. Exerceix de professor de secundària. En el seu vessant literari ha publicat diversos poemaris i traduccions. Ha obtingut guardons com el Jaume Bru i Vidal de Poesia.  Activitat organitzada per l’Associació d’Escriptors en Llengua Catalana (AELC) en col·laboració amb l’Octubre CCC
URL:https://octubre.cat/activitat/teresa-broseta-i-josep-ribera/
LOCATION:Terrat
CATEGORIES:Escriptors al terrat
ATTACH;FMTTYPE=image/jpeg:https://octubre.cat/www/wp-content/uploads/2020/07/activitat1801.jpg
END:VEVENT
END:VCALENDAR