BEGIN:VCALENDAR
VERSION:2.0
PRODID:-//Octubre Centre de Cultura Contemporània - ECPv5.1.6//NONSGML v1.0//EN
CALSCALE:GREGORIAN
METHOD:PUBLISH
X-WR-CALNAME:Octubre Centre de Cultura Contemporània
X-ORIGINAL-URL:https://octubre.cat
X-WR-CALDESC:Events for Octubre Centre de Cultura Contemporània
BEGIN:VTIMEZONE
TZID:Europe/Andorra
BEGIN:DAYLIGHT
TZOFFSETFROM:+0100
TZOFFSETTO:+0200
TZNAME:CEST
DTSTART:20140330T010000
END:DAYLIGHT
BEGIN:STANDARD
TZOFFSETFROM:+0200
TZOFFSETTO:+0100
TZNAME:CET
DTSTART:20141026T010000
END:STANDARD
END:VTIMEZONE
BEGIN:VEVENT
DTSTART;TZID=Europe/Andorra:20140228T190000
DTEND;TZID=Europe/Andorra:20140228T190000
DTSTAMP:20260421T072313
CREATED:20200729T170351Z
LAST-MODIFIED:20200729T184403Z
UID:9719-1393614000-1393614000@octubre.cat
SUMMARY:Tens una pregunta per a Baldo?
DESCRIPTION:Divendres 28 de febrer a les 19.00h. Conversa oberta amb Joan Baldoví\, diputat per Compromís al Congrés  \n  \n  \n\n Conversa oberta amb Joan Baldoví  Joan Baldoví\, diputat de Compromís al Congrés\, conversarà sobre l’actualitat política\, el pes dels valencians a l’Estat i la regeneració democràtica.  Organitzat per la Coalició Compromís
URL:https://octubre.cat/activitat/tens-una-pregunta-per-a-baldo/
LOCATION:No definit
CATEGORIES:Conferències i congressos
ATTACH;FMTTYPE=image/jpeg:https://octubre.cat/www/wp-content/uploads/2020/07/activitat2014.jpg
END:VEVENT
END:VCALENDAR