BEGIN:VCALENDAR
VERSION:2.0
PRODID:-//Octubre Centre de Cultura Contemporània - ECPv5.1.6//NONSGML v1.0//EN
CALSCALE:GREGORIAN
METHOD:PUBLISH
X-WR-CALNAME:Octubre Centre de Cultura Contemporània
X-ORIGINAL-URL:https://octubre.cat
X-WR-CALDESC:Events for Octubre Centre de Cultura Contemporània
BEGIN:VTIMEZONE
TZID:Europe/Andorra
BEGIN:DAYLIGHT
TZOFFSETFROM:+0100
TZOFFSETTO:+0200
TZNAME:CEST
DTSTART:20230326T010000
END:DAYLIGHT
BEGIN:STANDARD
TZOFFSETFROM:+0200
TZOFFSETTO:+0100
TZNAME:CET
DTSTART:20231029T010000
END:STANDARD
END:VTIMEZONE
BEGIN:VEVENT
DTSTART;TZID=Europe/Andorra:20231201T200000
DTEND;TZID=Europe/Andorra:20231201T200000
DTSTAMP:20260422T115842
CREATED:20231122T163414Z
LAST-MODIFIED:20231122T173546Z
UID:20597-1701460800-1701460800@octubre.cat
SUMMARY:Teatre: L’home del vol vertical\, de Joan Gomila
DESCRIPTION:L’espectacle recrea la nit del 7 de desembre de 1965\, a l’hospici de Llucmajor\, al convent de les monges de la Caritat. Pere Sastre\, ja moribund\, passa la seva darrera nit\, acompanyat pel seu amic Gabriel Moragues. A les cases de Son Gall\, que estan en un estat llastimós\, en Pere Sastre hi viu i hi guarda el que ha estat la seva raó de viure: el «Cometa-gira-avió» (un precursor llucmajorer de l’helicòpter). Queda atrapat entre les bigues\, quan aquestes passen per ull\, després d’unes plogudes intenses. Pere\, en pèssimes condicions\, és recollit uns dies després per uns amics que el deixen a càrrec de les monges. Gabriel Moragues\, interpretat per Joan Gomila\, serà el qui a partir d’una narració al seu amic\, li recordarà la seva història i li rendirà el tribut per la gran admiració que li professa. \nQuatre seran els principals protagonistes d’aquesta història que se deixa endur per l’emoció de fracassos i èxits. Aquests quatre personatges reals són\, a més de Pere Sastre\, el gran pedagog Rufino Carpena\, el famós aviador americà Charles Lindberg i l’enginyer Juan de la Cierva. \nNo és una història decimonònica\, encara que recrea els feliços anys vint dels segle passat. És una història actual\, que parla de les desigualtats socials\, del poder i dels somnis de les persones. \n  \n \n  \nAUTOR: Joan Gomila\nINTÈRPRETS: Joan Gomila\, Xesca Forteza i Joan Aguiló.\nDIRECCIÓ ACTORAL: Frederic Roda\nAJUDANTIA DIRECCIÓ: Francina G. Ars.\nDIRECCIÓ\, PRODUCCIÓ I CONCEPTE ESPECTACLE: Joan Gomila\nDISSENY DE L’ESCENOGRAFIA I VESTUARI: Joana Serra\nCONSTRUCCIÓ ESCENOGRAFIA: Felip Forteza\nPRODUCCIÓ EXECUTIVA I ASSISTÈNCIA TÈCNICA: Antoni Gomila Servera\nTÈCNIC DE SO I VÍDEO: Gabriel Padilla\nIL·LUMINACIÓ: Joan Gomila i Gabriel Padilla\nFOTOGRAFIA: Joan Servera\nVÍDEO: Domènec Boronat\nGRAFISME: Impremta Leo\nUna producció de La Fornal d’Espectacles
URL:https://octubre.cat/activitat/teatre-lhome-del-vol-vertical-de-joan-gomila/
LOCATION:Sala d’actes
CATEGORIES:Teatre
ATTACH;FMTTYPE=image/jpeg:https://octubre.cat/www/wp-content/uploads/2023/11/Teatre07.jpg
END:VEVENT
END:VCALENDAR