BEGIN:VCALENDAR
VERSION:2.0
PRODID:-//Octubre Centre de Cultura Contemporània - ECPv5.1.6//NONSGML v1.0//EN
CALSCALE:GREGORIAN
METHOD:PUBLISH
X-WR-CALNAME:Octubre Centre de Cultura Contemporània
X-ORIGINAL-URL:https://octubre.cat
X-WR-CALDESC:Events for Octubre Centre de Cultura Contemporània
BEGIN:VTIMEZONE
TZID:Europe/Andorra
BEGIN:DAYLIGHT
TZOFFSETFROM:+0100
TZOFFSETTO:+0200
TZNAME:CEST
DTSTART:20150329T010000
END:DAYLIGHT
BEGIN:STANDARD
TZOFFSETFROM:+0200
TZOFFSETTO:+0100
TZNAME:CET
DTSTART:20151025T010000
END:STANDARD
END:VTIMEZONE
BEGIN:VEVENT
DTSTART;TZID=Europe/Andorra:20151215T190000
DTEND;TZID=Europe/Andorra:20151215T190000
DTSTAMP:20260421T090618
CREATED:20200729T171414Z
LAST-MODIFIED:20200730T041601Z
UID:10383-1450206000-1450206000@octubre.cat
SUMMARY:Taula rodona “Sóc gai\, sóc bisexual i visc amb VIH. Visibilitat\, estigma i realitat psicosocial”
DESCRIPTION:Dimarts 15 de desembre a les 19.00h. Organitzada pel col·lectiu Lambda amb motiu de l’exposició “Encara ací / Still here” de Pepe Miralles.  \n  \n  \n\n Programa:  1a part: Visionat del vídeo Historias de hombres que vivien con VIH  2a part: Debat al voltant del vídeo i de l’estigma social associat a VIH\, amb els voluntaris del grup de Salut Sexual i VIH Lambda.  Organitzat pel Col·lectiu Lambda (Col·lectiu de Lesbianes\, Gais\, Transexuals i Bisexuals) amb motiu de l’exposició Encara ací / Still here.
URL:https://octubre.cat/activitat/taula-rodona-soc-gai-soc-bisexual-i-visc-amb-vih-visibilitat-estigma-i-realitat-psicosocial/
LOCATION:Sala d’actes
CATEGORIES:Conferències i congressos
ATTACH;FMTTYPE=image/jpeg:https://octubre.cat/www/wp-content/uploads/2020/07/activitat2437.jpg
END:VEVENT
END:VCALENDAR