BEGIN:VCALENDAR
VERSION:2.0
PRODID:-//Octubre Centre de Cultura Contemporània - ECPv5.1.6//NONSGML v1.0//EN
CALSCALE:GREGORIAN
METHOD:PUBLISH
X-WR-CALNAME:Octubre Centre de Cultura Contemporània
X-ORIGINAL-URL:https://octubre.cat
X-WR-CALDESC:Events for Octubre Centre de Cultura Contemporània
BEGIN:VTIMEZONE
TZID:Europe/Andorra
BEGIN:DAYLIGHT
TZOFFSETFROM:+0100
TZOFFSETTO:+0200
TZNAME:CEST
DTSTART:20120325T010000
END:DAYLIGHT
BEGIN:STANDARD
TZOFFSETFROM:+0200
TZOFFSETTO:+0100
TZNAME:CET
DTSTART:20121028T010000
END:STANDARD
END:VTIMEZONE
BEGIN:VEVENT
DTSTART;TZID=Europe/Andorra:20120605T190000
DTEND;TZID=Europe/Andorra:20120605T190000
DTSTAMP:20260422T191847
CREATED:20200729T165801Z
LAST-MODIFIED:20200729T183859Z
UID:9385-1338922800-1338922800@octubre.cat
SUMMARY:Taula rodona sobre el Parc Natural de l'Albufera
DESCRIPTION:Dimarts\, 5 de juny a les 19.00h: taula rodona “El Parc Natural de l’Albufera: una història mal contada”\, acte inaugural de l’exposició homònima.  \n  \n  \n\nTaula rodona “El Parc Natural de l’Albufera: una història mal contada”\, acte inaugural de l’exposició homònima i en celebració del Dia Mundial del Medi Ambient.  Amb la participació de Carles Dolç (arquitecte)\, Anna Mateu (cap de redacció de la revista Mètode)\, Sol Romeu (Federació d’Associacions de Veïns de València) i William Colom (president d’Acció Ecologista – Agró)
URL:https://octubre.cat/activitat/taula-rodona-sobre-el-parc-natural-de-lalbufera/
LOCATION:No definit
CATEGORIES:Conferències i congressos
ATTACH;FMTTYPE=image/jpeg:https://octubre.cat/www/wp-content/uploads/2020/07/activitat1628.jpg
END:VEVENT
END:VCALENDAR