BEGIN:VCALENDAR
VERSION:2.0
PRODID:-//Octubre Centre de Cultura Contemporània - ECPv5.1.6//NONSGML v1.0//EN
CALSCALE:GREGORIAN
METHOD:PUBLISH
X-WR-CALNAME:Octubre Centre de Cultura Contemporània
X-ORIGINAL-URL:https://octubre.cat
X-WR-CALDESC:Events for Octubre Centre de Cultura Contemporània
BEGIN:VTIMEZONE
TZID:Europe/Andorra
BEGIN:DAYLIGHT
TZOFFSETFROM:+0100
TZOFFSETTO:+0200
TZNAME:CEST
DTSTART:20070325T010000
END:DAYLIGHT
BEGIN:STANDARD
TZOFFSETFROM:+0200
TZOFFSETTO:+0100
TZNAME:CET
DTSTART:20071028T010000
END:STANDARD
END:VTIMEZONE
BEGIN:VEVENT
DTSTART;TZID=Europe/Andorra:20070222T000000
DTEND;TZID=Europe/Andorra:20070222T000000
DTSTAMP:20260420T181130
CREATED:20260106T171034Z
LAST-MODIFIED:20260106T171034Z
UID:24572-1172102400-1172102400@octubre.cat
SUMMARY:Taula rodona sobre Carles Santos
DESCRIPTION:Amb motiu de l’exposició de l’Octubre CCC “Carles Santos. Visca el piano!” \nAmb la participació de:\n—Manel Guerrero\, comissari de l’exposició\, Departament de Cultura i Mitjans de Comunicació de la Generalitat de Catalunya\n—Josep Ruvira\, director de l’Auditori de Torrent\n—Vicente Ponce\, crític cinematogràfic\n—Llorenç Barber\, músic
URL:https://octubre.cat/activitat/taula-rodona-sobre-carles-santos/
LOCATION:Sala d’actes
CATEGORIES:Conferències i congressos
ATTACH;FMTTYPE=image/jpeg:https://octubre.cat/www/wp-content/uploads/2020/07/conferencia1.jpg
END:VEVENT
END:VCALENDAR