BEGIN:VCALENDAR
VERSION:2.0
PRODID:-//Octubre Centre de Cultura Contemporània - ECPv5.1.6//NONSGML v1.0//EN
CALSCALE:GREGORIAN
METHOD:PUBLISH
X-WR-CALNAME:Octubre Centre de Cultura Contemporània
X-ORIGINAL-URL:https://octubre.cat
X-WR-CALDESC:Events for Octubre Centre de Cultura Contemporània
BEGIN:VTIMEZONE
TZID:Europe/Andorra
BEGIN:DAYLIGHT
TZOFFSETFROM:+0100
TZOFFSETTO:+0200
TZNAME:CEST
DTSTART:20150329T010000
END:DAYLIGHT
BEGIN:STANDARD
TZOFFSETFROM:+0200
TZOFFSETTO:+0100
TZNAME:CET
DTSTART:20151025T010000
END:STANDARD
END:VTIMEZONE
BEGIN:VEVENT
DTSTART;TZID=Europe/Andorra:20151217T190000
DTEND;TZID=Europe/Andorra:20151217T190000
DTSTAMP:20260421T033009
CREATED:20200729T171501Z
LAST-MODIFIED:20200730T041623Z
UID:10435-1450378800-1450378800@octubre.cat
SUMMARY:Taula rodona 'La salut als mitjans de comunicació'
DESCRIPTION:Dijous 17 de setembre a les 19.00h. Amb Dolors Padrell\, Jaume Prats\, Martí Domínguez i Josep Lluís Barona. Organitzada per la SVCS “Joan B. Peset”  \n  \n  \n\n Amb —Dolors Padrell\, metgessa d’atenció primària —Jaume Prats\, cap de premsa de la Conselleria de Sanitat —Martí Domínguez\, professor de Divulgació de la Ciència de la Universitat de València i director de la revista Mètode  Modera: Josep Lluís Barona\, catedràtic d’Història de la Ciència de la Universitat de València    Organitza Societat Valenciana de Ciències de la Salut Joan Baptista Peset
URL:https://octubre.cat/activitat/taula-rodona-la-salut-als-mitjans-de-comunicacio/
CATEGORIES:Conferències i congressos
ATTACH;FMTTYPE=image/jpeg:https://octubre.cat/www/wp-content/uploads/2020/07/activitat2464.jpg
END:VEVENT
END:VCALENDAR