BEGIN:VCALENDAR
VERSION:2.0
PRODID:-//Octubre Centre de Cultura Contemporània - ECPv5.1.6//NONSGML v1.0//EN
CALSCALE:GREGORIAN
METHOD:PUBLISH
X-WR-CALNAME:Octubre Centre de Cultura Contemporània
X-ORIGINAL-URL:https://octubre.cat
X-WR-CALDESC:Events for Octubre Centre de Cultura Contemporània
BEGIN:VTIMEZONE
TZID:Europe/Andorra
BEGIN:DAYLIGHT
TZOFFSETFROM:+0100
TZOFFSETTO:+0200
TZNAME:CEST
DTSTART:20100328T010000
END:DAYLIGHT
BEGIN:STANDARD
TZOFFSETFROM:+0200
TZOFFSETTO:+0100
TZNAME:CET
DTSTART:20101031T010000
END:STANDARD
END:VTIMEZONE
BEGIN:VEVENT
DTSTART;TZID=Europe/Andorra:20100215T193000
DTEND;TZID=Europe/Andorra:20100215T193000
DTSTAMP:20260420T104836
CREATED:20200729T164726Z
LAST-MODIFIED:20200729T182801Z
UID:8726-1266262200-1266262200@octubre.cat
SUMMARY:Taula rodona amb membres de la FUE
DESCRIPTION:Dilluns 15 de febrer\, a les 19.30h: Taula rodona amb membres de la FUE i presentació de llibres sobre la memòria de Pelai Pagès.   \n  \n  \n\nTaular rodona amb membres de la FUE que s’inscriu en el seguit d’activitats paral·leles a l’exposició La Derrota\, que es desenvolupen al llarg del mes de febrer.   Amb la intervenció de:  Maria Fernanda Mancebo\, doctora en Història per la Universitat de València\, catedràtica d’Història i Geografia de l’Institut Benlliure.  Alejandra Soler i Juan Marín\, membres de la FUE.  Ricard Camil Torres Fabra i Vicent Sampedro\, investigadors de la Universitat de València i comissaris de l’exposició “La Derrota”.   La Federació Universitària Escolar (FUE) era el principal sindicat d’estudiants universitaris\, amb seu al C/ Concòrdia\, 6. Va tenir un paper de primer ordre en la participació política i cultural dels estudiants i en la defensa de la República. El sindicat fou fundat a València el 1930. La seua activitat fou molt intensa durant tot el període republicà\, especialment en els tres primers anys\, continuà durant la guerra.   Presentació A continuació tindrà lloc la presentació dels llibres Les lleis repressives del franquisme i La repressió franquista al País Valencià. Primera trobada d’investigadors de la comissió de la veritat\, dels quals n’és autor i editor\, respectivament\, Pelai Pagès.   Pelai Pagès és doctor en història i professor d’Història contemporània a la Universitat de Barcelona. Especialista en temes de moviment obrer\, guerra civil\, franquisme i transició\, en el seu treball més recent\, Les lleis repressives del franquisme\, parla de com el règim va basar el seu poder en el recurs a la violència i l’exercici de la repressió. La violència era un element consubstancial a la seua naturalesa política i social i la repressió tenia un suport jurídic i legislatiu. El llibre recull el gruix d’aquesta legislació. La repressió franquista al País Valencià\, d’altra banda\, recull les ponències i comunicacions que es van presentar el maig de 2008 en la I Trobada d’investigadors de la comissió de la veritat.
URL:https://octubre.cat/activitat/taula-rodona-amb-membres-de-la-fue/
LOCATION:No definit
CATEGORIES:Conferències i congressos
ATTACH;FMTTYPE=image/jpeg:https://octubre.cat/www/wp-content/uploads/2020/07/activitat1070.jpg
END:VEVENT
END:VCALENDAR