BEGIN:VCALENDAR
VERSION:2.0
PRODID:-//Octubre Centre de Cultura Contemporània - ECPv5.1.6//NONSGML v1.0//EN
CALSCALE:GREGORIAN
METHOD:PUBLISH
X-WR-CALNAME:Octubre Centre de Cultura Contemporània
X-ORIGINAL-URL:https://octubre.cat
X-WR-CALDESC:Events for Octubre Centre de Cultura Contemporània
BEGIN:VTIMEZONE
TZID:Europe/Andorra
BEGIN:DAYLIGHT
TZOFFSETFROM:+0100
TZOFFSETTO:+0200
TZNAME:CEST
DTSTART:20250330T010000
END:DAYLIGHT
BEGIN:STANDARD
TZOFFSETFROM:+0200
TZOFFSETTO:+0100
TZNAME:CET
DTSTART:20251026T010000
END:STANDARD
END:VTIMEZONE
BEGIN:VEVENT
DTSTART;TZID=Europe/Andorra:20250620T190000
DTEND;TZID=Europe/Andorra:20250620T190000
DTSTAMP:20260420T225359
CREATED:20250529T101151Z
LAST-MODIFIED:20250617T093211Z
UID:22843-1750446000-1750446000@octubre.cat
SUMMARY:Taula redona «Les publicacions periòdiques en català en l’era digital: reptes i perspectives de futur»
DESCRIPTION:Amb la participació de:\n—Martí Domínguez\, Mètode\n—Vicent Boscà\, Saó\n—Violeta Tena\, El Temps\n—Ferran Archilés\, L’Espill\n—Vicent Partal\, Vilaweb\n—Joaquim Noguero\, Serra d’Or\n—Mosiès Vizcaino\, Diari La Veu del País Valencià\nModera: Juli Capilla\, Revista de la Safor \nEn quina situació es troben les publicacions en paper i/o digitals ara com ara? Quins reptes planteja l’allau d’informació que ens acapara i bombardeja diàriament? Quins entrebancs específics patim pel fet de publicar en una llengua minoritzada? Com ha transformat l’era digital les publicacions periòdiques i què podem fer per adaptar-nos-hi? És possible la informació veraç i contrastada enmig de tant de rumor i de l’amenaça de les fake news? Com podem combatre la intrusió en el periodisme professional? Podem aprofitar la conjuntura per sortir-nos-en i fins i tot per progressar enmig d’aquesta allau de confusió i desinformació? Quines són les estratègies de supervivència del periodisme en el moment actual?  \nHem volgut reunir una sèrie de professionals del ram del periodisme perquè parlen i debaten entorn d’una qüestió complexa i de difícil solució però absolutament prioritària si volem preservar els fonaments de les societats lliures\, civilitzades i democràtiques.
URL:https://octubre.cat/activitat/taula-redona-les-publicacions-periodiques-en-catala-en-lera-digital-reptes-i-perspectives-de-futur/
LOCATION:Aula 1
CATEGORIES:Conferències i congressos
ATTACH;FMTTYPE=image/jpeg:https://octubre.cat/www/wp-content/uploads/2025/05/muntatge_revistes-cap.jpg
END:VEVENT
END:VCALENDAR