BEGIN:VCALENDAR
VERSION:2.0
PRODID:-//Octubre Centre de Cultura Contemporània - ECPv5.1.6//NONSGML v1.0//EN
CALSCALE:GREGORIAN
METHOD:PUBLISH
X-WR-CALNAME:Octubre Centre de Cultura Contemporània
X-ORIGINAL-URL:https://octubre.cat
X-WR-CALDESC:Events for Octubre Centre de Cultura Contemporània
BEGIN:VTIMEZONE
TZID:Europe/Andorra
BEGIN:DAYLIGHT
TZOFFSETFROM:+0100
TZOFFSETTO:+0200
TZNAME:CEST
DTSTART:20180325T010000
END:DAYLIGHT
BEGIN:STANDARD
TZOFFSETFROM:+0200
TZOFFSETTO:+0100
TZNAME:CET
DTSTART:20181028T010000
END:STANDARD
END:VTIMEZONE
BEGIN:VEVENT
DTSTART;TZID=Europe/Andorra:20180927T183000
DTEND;TZID=Europe/Andorra:20180927T183000
DTSTAMP:20260423T084224
CREATED:20200729T173108Z
LAST-MODIFIED:20200729T190910Z
UID:11250-1538073000-1538073000@octubre.cat
SUMMARY:Tastallengües setembre 2018
DESCRIPTION:Dijous 27 de setembre a partir de les 18.30h. Organitzat pel Servei de Política Lingüística de la Universitat de València. Inclou l’actuació d’Urbàlia Rurana. Assistència per inscripció.	 \n  \n  \n\n 	 El Tastallengües (organitzat pel Servei de Política Lingüística de la Universitat de València) se celebra a l’inici de cada semestre (al setembre i al gener o febrer) per a afavorir la integració dels estudiants internacionals i la promoció del multilingüisme entre la comunitat universitària. És una oportunitat perquè practiques les llengües que parles i/o tens interès d’aprendre en un ambient informal i relaxat. L’organització ofereix menjar típic valencià de bades i us convida a portar i compartir menjar i/o beguda típiques de la vostra cultura d’origen. L’assistència és gratuïta i oberta a tota la comunitat universitària\, encara que la capacitat és limitada.  L’acte inclou un concert d’Urbàlia Rurana  Més informació i inscripcions.
URL:https://octubre.cat/activitat/tastallengues-setembre-2018/
LOCATION:No definit
CATEGORIES:Literatura
ATTACH;FMTTYPE=image/jpeg:https://octubre.cat/www/wp-content/uploads/2020/07/activitat3089.jpg
END:VEVENT
END:VCALENDAR