BEGIN:VCALENDAR
VERSION:2.0
PRODID:-//Octubre Centre de Cultura Contemporània - ECPv5.1.6//NONSGML v1.0//EN
CALSCALE:GREGORIAN
METHOD:PUBLISH
X-WR-CALNAME:Octubre Centre de Cultura Contemporània
X-ORIGINAL-URL:https://octubre.cat
X-WR-CALDESC:Events for Octubre Centre de Cultura Contemporània
BEGIN:VTIMEZONE
TZID:Europe/Andorra
BEGIN:DAYLIGHT
TZOFFSETFROM:+0100
TZOFFSETTO:+0200
TZNAME:CEST
DTSTART:20160327T010000
END:DAYLIGHT
BEGIN:STANDARD
TZOFFSETFROM:+0200
TZOFFSETTO:+0100
TZNAME:CET
DTSTART:20161030T010000
END:STANDARD
END:VTIMEZONE
BEGIN:VEVENT
DTSTART;TZID=Europe/Andorra:20160915T183000
DTEND;TZID=Europe/Andorra:20160915T183000
DTSTAMP:20260421T165046
CREATED:20200729T172008Z
LAST-MODIFIED:20200729T185553Z
UID:10764-1473964200-1473964200@octubre.cat
SUMMARY:Tastallengües setembre 2016
DESCRIPTION:Dijous 15 de setembre a partir de les 18.30h. Acte de benvinguda i intercanvi lingüístic amb concert d’Urbàlia Rurana. Organitzat pel Servei de Política Lingüística de la Universitat de València amb la col·laboració d’ACPV  \n  \n  \n\n –18.30: “The language of Valencia: how to learn it at the University simply by sharing yours”\, a càrrec de Graeme Berman\, del Servei de Política Lingüística.  –19.00: Berenar-sopar de germanor / Valencian and multicultural evening meal.  Picadeta valenciana: A light meal with typical Valencian dishes will be provided by the organisation / Tastarem productes típics de les comarques valencianes.  Intercanvi gastronòmic: International students and locals are invited to bring along food and drink typical of your culture / Us convidem a portar-hi menjars i begudes de la vostra cultura.  During the evening\, we will help you arrange conversation exchanges (tàndems) with local people / Si us interessa\, us ajudarem a formar tàndems lingüístics amb els estudiants internacionals  –21.00: Valencian folk concert and party with the band / Concert de folk i festa amb el grup: Urbàlia Rurana  Els actes són gratuïts\, estan oberts a tots els membres de la comunitat universitària (amb capacitat limitada) i tenen com a objectiu l’acolliment lingüístic dels estudiants d’intercanvi i la promoció del plurilingüisme.  Please indicate your participation here / Us preguem que reserveu la vostra plaça ací.  Organitzat pel Servei de Política Lingüística de la Universitat de València amb la col·laboració d’Acció Cultural del País Valencià.
URL:https://octubre.cat/activitat/tastallengues-setembre-2016/
LOCATION:Hall
CATEGORIES:Literatura
ATTACH;FMTTYPE=image/jpeg:https://octubre.cat/www/wp-content/uploads/2020/07/activitat2635.jpg
END:VEVENT
END:VCALENDAR