BEGIN:VCALENDAR
VERSION:2.0
PRODID:-//Octubre Centre de Cultura Contemporània - ECPv5.1.6//NONSGML v1.0//EN
CALSCALE:GREGORIAN
METHOD:PUBLISH
X-WR-CALNAME:Octubre Centre de Cultura Contemporània
X-ORIGINAL-URL:https://octubre.cat
X-WR-CALDESC:Events for Octubre Centre de Cultura Contemporània
BEGIN:VTIMEZONE
TZID:Europe/Andorra
BEGIN:DAYLIGHT
TZOFFSETFROM:+0100
TZOFFSETTO:+0200
TZNAME:CEST
DTSTART:20190331T010000
END:DAYLIGHT
BEGIN:STANDARD
TZOFFSETFROM:+0200
TZOFFSETTO:+0100
TZNAME:CET
DTSTART:20191027T010000
END:STANDARD
END:VTIMEZONE
BEGIN:VEVENT
DTSTART;TZID=Europe/Andorra:20190131T183000
DTEND;TZID=Europe/Andorra:20190131T183000
DTSTAMP:20260421T072223
CREATED:20200729T173241Z
LAST-MODIFIED:20200729T191027Z
UID:11347-1548959400-1548959400@octubre.cat
SUMMARY:Tastallengües gener 2019
DESCRIPTION:Dijous 31 de gener a partir de les 18.30h. Acte per a la comunitat universitària organitzat pel Servei de Política Lingüística de la UV. Inclou actuació de Tres fan Ball. Assistència per inscripció.	 \n  \n  \n\n 	 El Tastallengües (organitzat pel Servei de Política Lingüística de la Universitat de València) se celebra a l’inici de cada semestre (al setembre i al gener o febrer) per a afavorir la integració dels estudiants internacionals i la promoció del multilingüisme entre la comunitat universitària. És una oportunitat perquè practiques les llengües que parles i/o tens interès d’aprendre en un ambient informal i relaxat. L’organització ofereix menjar típic valencià de bades i us convida a portar i compartir menjar i/o beguda típiques de la vostra cultura d’origen. L’assistència és gratuïta i oberta a tota la comunitat universitària\, encara que la capacitat és limitada.  L’acte inclou un concert de Tres Fan Ball.  Més informació i inscripcions
URL:https://octubre.cat/activitat/tastallengues-gener-2019/
CATEGORIES:Literatura
ATTACH;FMTTYPE=image/jpeg:https://octubre.cat/www/wp-content/uploads/2020/07/activitat3192.jpg
END:VEVENT
END:VCALENDAR