BEGIN:VCALENDAR
VERSION:2.0
PRODID:-//Octubre Centre de Cultura Contemporània - ECPv5.1.6//NONSGML v1.0//EN
CALSCALE:GREGORIAN
METHOD:PUBLISH
X-WR-CALNAME:Octubre Centre de Cultura Contemporània
X-ORIGINAL-URL:https://octubre.cat
X-WR-CALDESC:Events for Octubre Centre de Cultura Contemporània
BEGIN:VTIMEZONE
TZID:Europe/Andorra
BEGIN:DAYLIGHT
TZOFFSETFROM:+0100
TZOFFSETTO:+0200
TZNAME:CEST
DTSTART:20120325T010000
END:DAYLIGHT
BEGIN:STANDARD
TZOFFSETFROM:+0200
TZOFFSETTO:+0100
TZNAME:CET
DTSTART:20121028T010000
END:STANDARD
END:VTIMEZONE
BEGIN:VEVENT
DTSTART;TZID=Europe/Andorra:20120203T190000
DTEND;TZID=Europe/Andorra:20120203T190000
DTSTAMP:20260424T072507
CREATED:20200729T165706Z
LAST-MODIFIED:20200730T042934Z
UID:9328-1328295600-1328295600@octubre.cat
SUMMARY:Tast de vins i presentació del llibre 'Vitis vinifera cataloniae'
DESCRIPTION:Divendres 3 de febrer a les 19.00h: presentació del llibre “Vitis vinifera cataloniae” de Vicent Palatsí i tast de vins  \n  \n  \n\nde Vicent Palatsí (Onada edicions)  Hi intervindran: Vicent Palatsí (autor) Emili Payà\, director de l’Octubre CCC (presentador de l’acte) Avel·lí G. Mateu\, membre de l’Associació Enològica de Castelló (direcció del tast)  Vitis vinifera cataloniae és un recull de contes connectats per uns personatges que pul·lulen per les històries i que tenen com a denominador comú l’estima pels nostres bons vins i la tendència a mantenir relacions sexuals sempre que poden. On siga\, quan siga\, amb qui siga! Vuit relats amb quasi 40 vins de la nostra terra\, escollits pel paladar de l’autor i avalats per les millors guies\, amb els quals es pot assegurar el triomf\, o almenys quedar bé\, en un envit amorós. Trenta personatges majoritàriament bons vivants a la recerca dels plaers que la vida els pot oferir: tres dones experimentades que s’ajunten per iniciar un novençà; un professional liberal\, culte i feliçment casat\, que els dijous universitaris surt a la cacera de l’efeb; dues parelles heterosexuals que sopen juntes periòdicament\, i que en absència d’un dels membres es veuen abocats a fer un trio; un grup d’amigues que descobreixen que l’amistat entre dones pot anar molt més enllà que menjar\, xarrar i riure; una cubana transferida a l’Horta que aprén el valencià mentre practica el francés… Totes aquestes històries\, i més\, són presentades com a reals\, a partir de la proposta que l’enòleg Andreu Ballester fa als seus deixebles d’un “Curs d’iniciació al tast”.   L’autor Vicent Palatsí Armero (Castelló de la Plana\, 1960) treballa com a professor de valencià: llengua i literatura\, en un institut d’ensenyament secundari. És membre des de fa més de dotze anys de l’Associació Enològica de Castelló. Participa en tasts i n’organitza\, i fomenta el consum dels vins dels Països Catalans. Va iniciar-se en l’escriptura amb articles d’opinió en la revista Saó i el periòdic Levante. Ha publicat un parell de llibres per a joves i ara s’estrena amb Vitis vinifera cataloniae en la literatura per a majors de divuit anys.
URL:https://octubre.cat/activitat/tast-de-vins-i-presentacio-del-llibre-vitis-vinifera-cataloniae/
LOCATION:No definit
CATEGORIES:Literatura
ATTACH;FMTTYPE=image/jpeg:https://octubre.cat/www/wp-content/uploads/2020/07/activitat1570.jpg
END:VEVENT
END:VCALENDAR