BEGIN:VCALENDAR
VERSION:2.0
PRODID:-//Octubre Centre de Cultura Contemporània - ECPv5.1.6//NONSGML v1.0//EN
CALSCALE:GREGORIAN
METHOD:PUBLISH
X-WR-CALNAME:Octubre Centre de Cultura Contemporània
X-ORIGINAL-URL:https://octubre.cat
X-WR-CALDESC:Events for Octubre Centre de Cultura Contemporània
BEGIN:VTIMEZONE
TZID:Europe/Andorra
BEGIN:DAYLIGHT
TZOFFSETFROM:+0100
TZOFFSETTO:+0200
TZNAME:CEST
DTSTART:20240331T010000
END:DAYLIGHT
BEGIN:STANDARD
TZOFFSETFROM:+0200
TZOFFSETTO:+0100
TZNAME:CET
DTSTART:20241027T010000
END:STANDARD
END:VTIMEZONE
BEGIN:VEVENT
DTSTART;TZID=Europe/Andorra:20240612T193000
DTEND;TZID=Europe/Andorra:20240612T193000
DTSTAMP:20260420T102654
CREATED:20240523T153043Z
LAST-MODIFIED:20250710T162831Z
UID:21330-1718220600-1718220600@octubre.cat
SUMMARY:Tant si vostè ho permet o com si no
DESCRIPTION:Acte central d’homenatge a Vicent Andrés Estellés \nBenvinguda a càrrec d’Anna Oliver\, presidenta d’Acció Cultural del País Valencià\nParlament de l’Hble. Sra. Natàlia Garriga\, consellera de Cultura de la Generalitat de Catalunya \nConversa amb\n—Izaskun Arretxe\, directora de la Institució de les Lletres Catalanes\n—Carmina Andrés\, filla del poeta i presidenta de Cent d’Estellés\n—Àngels Gregori\, comissària de l’Any Estellés\n—Joan Francesc Mira\, escriptor\n—Jaume Pérez Montaner\, escriptor\n—Sebastià Alzamora\, escriptor \nActuació musical d’Andreu Valor\, cantautor \n \n—\nOrganitzat per la Institució de les Lletres Catalanes (ILC) amb la col·laboració d’ACPV i Cent d’Estellés
URL:https://octubre.cat/activitat/tant-si-voste-ho-permet-o-com-si-no/
LOCATION:Hall
CATEGORIES:Cent d'Estellés,Conferències i congressos
ATTACH;FMTTYPE=image/jpeg:https://octubre.cat/www/wp-content/uploads/2024/05/logo-any-estelles-h-scaled.jpg
END:VEVENT
END:VCALENDAR