BEGIN:VCALENDAR
VERSION:2.0
PRODID:-//Octubre Centre de Cultura Contemporània - ECPv5.1.6//NONSGML v1.0//EN
CALSCALE:GREGORIAN
METHOD:PUBLISH
X-WR-CALNAME:Octubre Centre de Cultura Contemporània
X-ORIGINAL-URL:https://octubre.cat
X-WR-CALDESC:Events for Octubre Centre de Cultura Contemporània
BEGIN:VTIMEZONE
TZID:Europe/Andorra
BEGIN:DAYLIGHT
TZOFFSETFROM:+0100
TZOFFSETTO:+0200
TZNAME:CEST
DTSTART:20150329T010000
END:DAYLIGHT
BEGIN:STANDARD
TZOFFSETFROM:+0200
TZOFFSETTO:+0100
TZNAME:CET
DTSTART:20151025T010000
END:STANDARD
END:VTIMEZONE
BEGIN:VEVENT
DTSTART;TZID=Europe/Andorra:20151210T200000
DTEND;TZID=Europe/Andorra:20151210T200000
DTSTAMP:20260421T151603
CREATED:20200729T171425Z
LAST-MODIFIED:20200730T041608Z
UID:10396-1449777600-1449777600@octubre.cat
SUMMARY:Talps + Deliri
DESCRIPTION:Dijous 10 de desembre a les 20.00h. Entrades a 3\, 4 i 5€. Espai Octubre Concerts.  \n  \n  \n\n Talps presenten a València Simetries\, el seu primer disc.   Simetries (Mésdemil 2014) és el primer disc d’estudi del grup Talps (Borriol\, la Plana Alta)\, que sintetitza anys d’experiències musicals barrejades amb noves composicions sorgides el darrer any. Està composat per 11 cançons de tall íntim amb lletres que conviden a la reflexió personal i que expressen emocions captades al vol i madurades en la intimitat. Amb un so evolucionat des de les composicions acústiques\, les cançons han agafat forma fins a tindre un caràcter més elèctric\, però sense perdre mai eixa primitivitat acústica que es troba present en quasi tots els temes.  Deliri (Gandia) faran un concert d’avançament del seu primer disc\, que veurà la llum en gener/febrer de 2016.  Entrades: Anticipada a notikumi.com: 4 € Taquilla: 5 €  Socis d’ACPV a taquilla: 3 €  — Espai Octubre Concerts és una iniciativa de l’Octubre CCC gestionada per les productores musicals Metrònom\, Play Producciones i Mésdemil.
URL:https://octubre.cat/activitat/talps-deliri/
CATEGORIES:Espai Octubre Concerts
ATTACH;FMTTYPE=image/jpeg:https://octubre.cat/www/wp-content/uploads/2020/07/activitat2445.jpg
END:VEVENT
END:VCALENDAR