BEGIN:VCALENDAR
VERSION:2.0
PRODID:-//Octubre Centre de Cultura Contemporània - ECPv5.1.6//NONSGML v1.0//EN
CALSCALE:GREGORIAN
METHOD:PUBLISH
X-WR-CALNAME:Octubre Centre de Cultura Contemporània
X-ORIGINAL-URL:https://octubre.cat
X-WR-CALDESC:Events for Octubre Centre de Cultura Contemporània
BEGIN:VTIMEZONE
TZID:Europe/Andorra
BEGIN:DAYLIGHT
TZOFFSETFROM:+0100
TZOFFSETTO:+0200
TZNAME:CEST
DTSTART:20080330T010000
END:DAYLIGHT
BEGIN:STANDARD
TZOFFSETFROM:+0200
TZOFFSETTO:+0100
TZNAME:CET
DTSTART:20081026T010000
END:STANDARD
END:VTIMEZONE
BEGIN:VEVENT
DTSTART;TZID=Europe/Andorra:20081210T200000
DTEND;TZID=Europe/Andorra:20081210T200000
DTSTAMP:20260420T181124
CREATED:20200730T035915Z
LAST-MODIFIED:20200730T035915Z
UID:14047-1228939200-1228939200@octubre.cat
SUMMARY:Taller sobre música concreta
DESCRIPTION:“Listening sesion” a càrrec de Rubén García en commemoració del 60é aniversari de la música concreta. Per a més informació\, consulteu la secció “Els Tallers de l’Octubre”:
URL:https://octubre.cat/activitat/taller-sobre-musica-concreta/
LOCATION:No definit
CATEGORIES:Vibra
ATTACH;FMTTYPE=image/jpeg:https://octubre.cat/www/wp-content/uploads/2020/07/musica1.jpg
END:VEVENT
END:VCALENDAR