BEGIN:VCALENDAR
VERSION:2.0
PRODID:-//Octubre Centre de Cultura Contemporània - ECPv5.1.6//NONSGML v1.0//EN
CALSCALE:GREGORIAN
METHOD:PUBLISH
X-WR-CALNAME:Octubre Centre de Cultura Contemporània
X-ORIGINAL-URL:https://octubre.cat
X-WR-CALDESC:Events for Octubre Centre de Cultura Contemporània
BEGIN:VTIMEZONE
TZID:Europe/Andorra
BEGIN:DAYLIGHT
TZOFFSETFROM:+0100
TZOFFSETTO:+0200
TZNAME:CEST
DTSTART:20110327T010000
END:DAYLIGHT
BEGIN:STANDARD
TZOFFSETFROM:+0200
TZOFFSETTO:+0100
TZNAME:CET
DTSTART:20111030T010000
END:STANDARD
END:VTIMEZONE
BEGIN:VEVENT
DTSTART;TZID=Europe/Andorra:20110604T120000
DTEND;TZID=Europe/Andorra:20110604T120000
DTSTAMP:20260422T145957
CREATED:20200729T165552Z
LAST-MODIFIED:20200730T042839Z
UID:9256-1307188800-1307188800@octubre.cat
SUMMARY:Taller del sintetitzador Benjolin\, amb Rob Hordijk
DESCRIPTION:Dissabte 4 de juny\, de 12.00 a 20.00h\, Taller del sintetitzador Benjolin\, amb Rob Hordijk  \n  \n  \n\nTALLER DEL SINTETITZADOR BENJOLIN\, AMB ROB HORDIJK   noiseandroid.com organitza un taller d’una jornada dirigit pel llegendari gurú dels sintetitzadors Rob Hordijk\, en el qual els participants construiran un Benjolin\, un dispositiu analògic molt diferent als altres sintetitzadors DIY que es poden trobar al mercat. Aquest kit només està disponible assistint a aquest tipus de tallers\, que després del seu pas per Amsterdam\, Berlín o Nova York\, arriba per vegada primer al nostre país. \, i no es pot comprar per separat.   El cost del taller\, és de 70€ per l’assistència i en cas de voler rebre materials s’incrementa en 80€. Els participants inscrits en la modalitat només assistència hauran de portar un sintetitzador analògic completament operatiu.  El Benjolin és una “caixa de soroll” dotada de certa dosi d’aleatorietat que pot tocar-se d’una manera intuïtiva. La seva construcció suposa un repte\, que amb una mica de paciència i l’ajuda de Rob i el seu equip\, qualsevol participant\, fins i tot aquells no iniciats en l’electrònica\, podrà superar amb èxit.  Mes informació i incripciones a www.noiseandroid.com. El taller està limitat a 15 participants.   Rob Hordijk (1953\, l’Haia \, Holanda). Originalment escultor i dissenyador de joies s’ha convertit al llarg dels anys en un expert en les tècniques de síntesis de so. En els últims anys s’ha especialitzat en la construcción artesanal de sintetitzadors\, a mig camí entre instruments musicals i objectes d’art. Els seus instruments han estat utilitzats per diferents artistes a tot el món. Un exemple d’un instrument dissenyat per Rob és el Blippoo Box\, destacat per la prestigiosa revista Leonardo Music Journal\, editada per la MIT.  Rob porta fent classes\, conferències i dirigint tallers des de 1983 en diferents institucions d’Holanda\, i ocasionalment en altres llocs del món.
URL:https://octubre.cat/activitat/taller-del-sintetitzador-benjolin-amb-rob-hordijk/
LOCATION:No definit
CATEGORIES:Arrt d'Accció
ATTACH;FMTTYPE=image/jpeg:https://octubre.cat/www/wp-content/uploads/2020/07/activitat1486.jpg
END:VEVENT
END:VCALENDAR