BEGIN:VCALENDAR
VERSION:2.0
PRODID:-//Octubre Centre de Cultura Contemporània - ECPv5.1.6//NONSGML v1.0//EN
CALSCALE:GREGORIAN
METHOD:PUBLISH
X-WR-CALNAME:Octubre Centre de Cultura Contemporània
X-ORIGINAL-URL:https://octubre.cat
X-WR-CALDESC:Events for Octubre Centre de Cultura Contemporània
BEGIN:VTIMEZONE
TZID:Europe/Andorra
BEGIN:DAYLIGHT
TZOFFSETFROM:+0100
TZOFFSETTO:+0200
TZNAME:CEST
DTSTART:20090329T010000
END:DAYLIGHT
BEGIN:STANDARD
TZOFFSETFROM:+0200
TZOFFSETTO:+0100
TZNAME:CET
DTSTART:20091025T010000
END:STANDARD
END:VTIMEZONE
BEGIN:VEVENT
DTSTART;TZID=Europe/Andorra:20091210T183000
DTEND;TZID=Europe/Andorra:20091210T183000
DTSTAMP:20260420T190014
CREATED:20200729T164632Z
LAST-MODIFIED:20200729T182715Z
UID:8672-1260469800-1260469800@octubre.cat
SUMMARY:Taller de Networking
DESCRIPTION:Dijous 10 de desembre\, a les 18.30h: Taller de Networking amb Rosaura Alastruey (directora ProyectosTIC). Organitzat per la UOC.   \n  \n  \n\nFa mesos que tothom parla de crisi: als mitjans de comunicació\, a les empreses o al carrer. I alguns\, tracten d’apuntar com sortir-ne. Tal com està el mercat laboral i professional\, i tal com es preveu que evolucionarà\, cal tenir en compte totes les variables i per què no\, tirar “dels contactes de tota la vida”\, això sí “amb una estratègia darrera i sobretot amb l’ajuda i reforç d’una tecnologia que fins fa pot temps no existia.   D’això se’n diu networking o\, traduït literalment\, “treballar en xarxa”\, explica Rosaura Alastruey\, investigadora i professora sobre aquest tema\, qui afegeix que “el 80% de les ofertes\, projectes\, oportunitats\, intercanvi de coneixements i col·laboracions interessants sempre es produeixen o\, el que és el mateix\, es mouen a través de la xarxa de contactes”.   El networking professional esdevé tota una filosofia de vida\, que segons aquesta experta\, “tracta bàsicament de saber i aprendre a construir i sobretot mantenir relacions personals a llarg termini que impliquin sempre un benefici conjunt per les dues parts que hi estan implicades. Aquestes relacions s’han de basar en la generositat continuada i l’aconseguiment de la confiança mútua”.  Com és un bon networker\, quines són les seues eines i quina la seua actitud a l’hora de treballar són algunes de les qüestions que es debatran en aquesta xerrada-taller sobre la gestió dels contactes pel desenvolupament professional.   Programa 18.30h. Arribada i acreditacions. 19.00h. Benvinguda. 19.05h. Presentació de UOC Alumni\, a càrrec de Maria Parareda\, directora de l’Àrea d’Alumni. 19.15h. Taller de Networking\, a càrrec de Rosaura Alastruey\, directora de ProyectosTIC.  Organitzat per la Universitat Oberta de Catalunya (UOC) en col·laboració amb l’Octubre CCC.   Entrada lliure.
URL:https://octubre.cat/activitat/taller-de-networking/
LOCATION:No definit
CATEGORIES:Els tallers de l'Octubre
ATTACH;FMTTYPE=image/jpeg:https://octubre.cat/www/wp-content/uploads/2020/07/activitat1015.jpg
END:VEVENT
END:VCALENDAR