BEGIN:VCALENDAR
VERSION:2.0
PRODID:-//Octubre Centre de Cultura Contemporània - ECPv5.1.6//NONSGML v1.0//EN
CALSCALE:GREGORIAN
METHOD:PUBLISH
X-WR-CALNAME:Octubre Centre de Cultura Contemporània
X-ORIGINAL-URL:https://octubre.cat
X-WR-CALDESC:Events for Octubre Centre de Cultura Contemporània
BEGIN:VTIMEZONE
TZID:Europe/Andorra
BEGIN:DAYLIGHT
TZOFFSETFROM:+0100
TZOFFSETTO:+0200
TZNAME:CEST
DTSTART:20090329T010000
END:DAYLIGHT
BEGIN:STANDARD
TZOFFSETFROM:+0200
TZOFFSETTO:+0100
TZNAME:CET
DTSTART:20091025T010000
END:STANDARD
END:VTIMEZONE
BEGIN:VEVENT
DTSTART;TZID=Europe/Andorra:20090207T160000
DTEND;TZID=Europe/Andorra:20090207T160000
DTSTAMP:20260421T022250
CREATED:20200729T182313Z
LAST-MODIFIED:20200729T182313Z
UID:12754-1234022400-1234022400@octubre.cat
SUMMARY:Taller de breakdance
DESCRIPTION:El breakdance representa la part més moguda de la cultura hip-hop amb uns moviments cridaners i técnics. El taller en repassa la història i ofereix teoria bàsica\, alhora que instrueix els assistents per què pugen fer els seus primers passos de breakdance. Finalitzarà amb una petita demostració de tot el que es pot fer per tal de motivar els participants.  Impartit per Roberto Díaz\, B-Boy de Massanassa.   Aquest taller s’inscriu en la Primera Jornada de Hip-Hop en català.
URL:https://octubre.cat/activitat/taller-de-breakdance/
LOCATION:No definit
CATEGORIES:Els tallers de l'Octubre
ATTACH;FMTTYPE=image/jpeg:https://octubre.cat/www/wp-content/uploads/2020/07/tallers1.jpg
END:VEVENT
END:VCALENDAR