BEGIN:VCALENDAR
VERSION:2.0
PRODID:-//Octubre Centre de Cultura Contemporània - ECPv5.1.6//NONSGML v1.0//EN
CALSCALE:GREGORIAN
METHOD:PUBLISH
X-WR-CALNAME:Octubre Centre de Cultura Contemporània
X-ORIGINAL-URL:https://octubre.cat
X-WR-CALDESC:Events for Octubre Centre de Cultura Contemporània
BEGIN:VTIMEZONE
TZID:Europe/Andorra
BEGIN:DAYLIGHT
TZOFFSETFROM:+0100
TZOFFSETTO:+0200
TZNAME:CEST
DTSTART:20080330T010000
END:DAYLIGHT
BEGIN:STANDARD
TZOFFSETFROM:+0200
TZOFFSETTO:+0100
TZNAME:CET
DTSTART:20081026T010000
END:STANDARD
END:VTIMEZONE
BEGIN:VEVENT
DTSTART;TZID=Europe/Andorra:20080529T190000
DTEND;TZID=Europe/Andorra:20080530T000000
DTSTAMP:20260421T000254
CREATED:20200729T181909Z
LAST-MODIFIED:20200730T035746Z
UID:12588-1212087600-1212105600@octubre.cat
SUMMARY:Taller amb Rubén García
DESCRIPTION:Dijous 29 i divendres 30\, 19.00h Taller amb el músic valencià Rubén García: “So i entorn com a pràctica artística”  \n  \n  \n\nSo i entorn com a pràctica artística  Moltes persones\, equipades amb aparells gravadors portàtils i tota mena de micròfons escanegen\, enregistren i exploren l’entorn immediat que els envolta i després d’açò treballen de forma creativa aquest material. L’enfocament creatiu pot tenir innumerables nivells de transformació i manipulació incloent-hi l’absència de la gravació mateixa i\, per suposat\, les múltiples combinacions possibles amb instruments tant acústics com electrònics. Les estètiques són diverses i\, en ocasions\, enfrontades\, cosa que és mostra del potencial que té el món real com a gresol sonor.  L’accessibilitat a eines tecnològiques potents i de qualitat a baix cost (des de gravadores digitals a micròfons i\, per supost\, la instauració del software com a eina universal) ha estat un fet definitiu en l’augment de l’activitat en aquest camp.  Encara que puga semblar que és una cosa relativament recent\, el ben cert és que fa més de mig segle que el so del món real s’utilitza per a la creació sonora.  Rubén García és biòleg\, artista sonor i comissari independent amb base a la ciutat de València. Des de mitjans dels anys 90 ha explorat diverses aproximacions a la creació sonora; les seues tècniques oscil•len entre la manipulació i\, sobretot\, la captura de fenòmens acústics mitjançant gravacions ambientals (tant naturals com artificials)\, passant per l’edició i processament digital multi-tracking.  El seu taller tindrà lloc els dies 29 i 30 de maig\, de 19h a 21h i\, en ell\, Rubén García aprofundirà en aquest món tant des del punt de vista teòric com pràctic.  L’assistència és gratuïta però cal insciure’s.
URL:https://octubre.cat/activitat/taller-amb-ruben-garcia/
LOCATION:No definit
CATEGORIES:Els tallers de l'Octubre
ATTACH;FMTTYPE=image/jpeg:https://octubre.cat/www/wp-content/uploads/2020/07/tallers1.jpg
END:VEVENT
END:VCALENDAR