BEGIN:VCALENDAR
VERSION:2.0
PRODID:-//Octubre Centre de Cultura Contemporània - ECPv5.1.6//NONSGML v1.0//EN
CALSCALE:GREGORIAN
METHOD:PUBLISH
X-WR-CALNAME:Octubre Centre de Cultura Contemporània
X-ORIGINAL-URL:https://octubre.cat
X-WR-CALDESC:Events for Octubre Centre de Cultura Contemporània
BEGIN:VTIMEZONE
TZID:Europe/Andorra
BEGIN:DAYLIGHT
TZOFFSETFROM:+0100
TZOFFSETTO:+0200
TZNAME:CEST
DTSTART:20100328T010000
END:DAYLIGHT
BEGIN:STANDARD
TZOFFSETFROM:+0200
TZOFFSETTO:+0100
TZNAME:CET
DTSTART:20101031T010000
END:STANDARD
END:VTIMEZONE
BEGIN:VEVENT
DTSTART;TZID=Europe/Andorra:20100427T190000
DTEND;TZID=Europe/Andorra:20100427T190000
DTSTAMP:20260420T180429
CREATED:20200729T164855Z
LAST-MODIFIED:20200729T182921Z
UID:8815-1272394800-1272394800@octubre.cat
SUMMARY:SUSPÈS: Presentació 'Paraula de narrador' / 'Paraula de poeta'
DESCRIPTION:ATENCIÓ: Aquest acte queda suspès per motius d’agenda.   Presentació de “Paraula de narrador” i “Paraula de poeta”  Presentació dels darrers números de les col·leccions “Paraula de narrador” i “Paraula de poeta”\, formades per petits volums que contenen una selecció de contes o una antologia poètica d’autors illencs vius\, adreçades al públic en general.   La primera comptarà amb la presència d’Àlex Volney\, escriptor\, llibreter i col·laborador en prema. Per a la presentació de la segona\, hi haurà Pere Rosselló Bover i Anna-Maria Ticoulat\, tots dos escriptors i poetes.
URL:https://octubre.cat/activitat/suspes-presentacio-paraula-de-narrador-paraula-de-poeta/
LOCATION:No definit
CATEGORIES:Espai Illes Balears
ATTACH;FMTTYPE=image/jpeg:https://octubre.cat/www/wp-content/uploads/2020/07/activitat1164.jpg
END:VEVENT
END:VCALENDAR