BEGIN:VCALENDAR
VERSION:2.0
PRODID:-//Octubre Centre de Cultura Contemporània - ECPv5.1.6//NONSGML v1.0//EN
CALSCALE:GREGORIAN
METHOD:PUBLISH
X-WR-CALNAME:Octubre Centre de Cultura Contemporània
X-ORIGINAL-URL:https://octubre.cat
X-WR-CALDESC:Events for Octubre Centre de Cultura Contemporània
BEGIN:VTIMEZONE
TZID:Europe/Andorra
BEGIN:DAYLIGHT
TZOFFSETFROM:+0100
TZOFFSETTO:+0200
TZNAME:CEST
DTSTART:20150329T010000
END:DAYLIGHT
BEGIN:STANDARD
TZOFFSETFROM:+0200
TZOFFSETTO:+0100
TZNAME:CET
DTSTART:20151025T010000
END:STANDARD
END:VTIMEZONE
BEGIN:VEVENT
DTSTART;TZID=Europe/Andorra:20150311T190000
DTEND;TZID=Europe/Andorra:20150311T190000
DTSTAMP:20260422T020213
CREATED:20200729T170935Z
LAST-MODIFIED:20200730T041406Z
UID:10086-1426100400-1426100400@octubre.cat
SUMMARY:'Stella cadente'\, de Lluís Miñarro
DESCRIPTION:Dimecres 11 de març a les 19.00h. Projecció inclosa en el cicle de Cinema Social. Entrada lliure  \n  \n  \n\n Una mirada personalíssima sobre el fugaç regnat d’Amadeu de Savoia que\, el 1870\, va intentar posar en ordre i modernitzar un país ingovernable. Un rei incomprès en l’exterior i ràpidament refugiat en el seu interior: fora de palau\, el país s’ensorra i\, a dins\, la seua cort l’abandona als jocs\, l’amor\, els plaers\, la bellesa i la malenconia.  Director: Lluís Miñarro (2014) Guió: Sergi Belbel i Lluís Miñarro Fotografia: Jimmy Gimferrer Repartiment: Àlex Brendemühl\, Lola Dueñas\, Lorenzo Balducci\, Bárbara Lennie\, Francesc Garrido\, Àlex Batllori\, Gonzalo Cunill\, Francesc Orella\, Jimmy Gimferrer\, Rosa Novell Producció: Splendor Films / Eddie Saeta S.A. / ICEC / Puglia Film Comission Premi de la secció oficial del Festival de Rotterdam (2014) i dues nominacions als Premis Fènix.  Entrada lliure Organitzat amb la col·laboració d’El Cine Social Coordinació del cicle: Antonio Lloréns
URL:https://octubre.cat/activitat/stella-cadente-de-lluis-minarro/
LOCATION:Sala d’actes
CATEGORIES:Cicle de cinema social
ATTACH;FMTTYPE=image/jpeg:https://octubre.cat/www/wp-content/uploads/2020/07/activitat2279.jpg
END:VEVENT
END:VCALENDAR