BEGIN:VCALENDAR
VERSION:2.0
PRODID:-//Octubre Centre de Cultura Contemporània - ECPv5.1.6//NONSGML v1.0//EN
CALSCALE:GREGORIAN
METHOD:PUBLISH
X-WR-CALNAME:Octubre Centre de Cultura Contemporània
X-ORIGINAL-URL:https://octubre.cat
X-WR-CALDESC:Events for Octubre Centre de Cultura Contemporània
BEGIN:VTIMEZONE
TZID:Europe/Andorra
BEGIN:DAYLIGHT
TZOFFSETFROM:+0100
TZOFFSETTO:+0200
TZNAME:CEST
DTSTART:20090329T010000
END:DAYLIGHT
BEGIN:STANDARD
TZOFFSETFROM:+0200
TZOFFSETTO:+0100
TZNAME:CET
DTSTART:20091025T010000
END:STANDARD
END:VTIMEZONE
BEGIN:VEVENT
DTSTART;TZID=Europe/Andorra:20090305T200000
DTEND;TZID=Europe/Andorra:20090305T200000
DTSTAMP:20260421T022412
CREATED:20200729T182326Z
LAST-MODIFIED:20200729T182326Z
UID:12765-1236283200-1236283200@octubre.cat
SUMMARY:Stanley Brinks & Freschard
DESCRIPTION:Dijous 5 de març a les 20.00h: Stanley Brinks & Freschard  \n  \n  \n\nStanley Brinks és la nova identitat d’André Herman Düne\, membre fundador del trio Herman Düne fins el seu penúltim disc Giant. Ha enregistrat discos i ha girat per Europa i Estats Units sota altres pseudònims\, com ara Ben Dope\, Ben Haschish\, Klaus Bong\, John Trawling\, John Andreas\, Lord Stanislas… Va canviar definitivament de nom la tardor de 2006\, quan va abandonar els seus amics i es va convertir en “enemic de la societat”. Ara actua bàsicament com a solista i ha traslladat el seu centre d’operacions des de París a Berlín.   La seua música oscil·la entre les cançons tradicionals\, fonamentalment acústiques\, fins a projectes més pròxims al rock’n’roll\, com demostra el seu àlbum en col·laboració amb el trio britànic The Wave Pictures. El passat 2008 ens va deixar dos nous treballs: Stanley Brinks Back In The Dales (Smoking Gun Records\, UK)\, una col·lecció de cançons acústiques\, i Dank U (Ciao Ketchup\, UK)\, influenciat pel calypso.
URL:https://octubre.cat/activitat/stanley-brinks-freschard/
LOCATION:No definit
CATEGORIES:Cicle de música pop
ATTACH;FMTTYPE=image/jpeg:https://octubre.cat/www/wp-content/uploads/2020/07/activitat790.jpg
END:VEVENT
END:VCALENDAR