BEGIN:VCALENDAR
VERSION:2.0
PRODID:-//Octubre Centre de Cultura Contemporània - ECPv5.1.6//NONSGML v1.0//EN
CALSCALE:GREGORIAN
METHOD:PUBLISH
X-WR-CALNAME:Octubre Centre de Cultura Contemporània
X-ORIGINAL-URL:https://octubre.cat
X-WR-CALDESC:Events for Octubre Centre de Cultura Contemporània
BEGIN:VTIMEZONE
TZID:Europe/Andorra
BEGIN:DAYLIGHT
TZOFFSETFROM:+0100
TZOFFSETTO:+0200
TZNAME:CEST
DTSTART:20090329T010000
END:DAYLIGHT
BEGIN:STANDARD
TZOFFSETFROM:+0200
TZOFFSETTO:+0100
TZNAME:CET
DTSTART:20091025T010000
END:STANDARD
END:VTIMEZONE
BEGIN:VEVENT
DTSTART;TZID=Europe/Andorra:20090402T000000
DTEND;TZID=Europe/Andorra:20090404T000000
DTSTAMP:20260420T204116
CREATED:20200729T182403Z
LAST-MODIFIED:20251228T163306Z
UID:12799-1238630400-1238803200@octubre.cat
SUMMARY:Spectra. Segon Simposi Mundial sobre Teories de la Conspiració
DESCRIPTION:Nom en clau de Spectra 09: Política i Conspiració\nTemes d’anàlisi: Politica. Paranoia. Espai Exterior. TV\nStress check: +/-3\nOrganitzen: Octubre CCC i Mess/Age.\nDirecció: Mike Ibáñez i Emili Payà. \nPrograma \nDijous 2 d’abril de 2009\n–17.00h. Projecció de “Loose Change”\, de Dylan Avery (USA\, V.O.S.E.)\n–19.00h. Conferència inaugural a càrrec de Javier Cavanilles: “La cara fosca d’Obama”\n–19.45h. Conferència de Vicente-Juan Ballester Olmos: “Fenòmen OVNI i idees conspiranoiques”.\n–20.45h. Intervenció de Mike Ibáñez: “TeleConsp: ¿és viu en Jordi Hurtado?. El televisor i la televisió com a territoris conspiranoics\, en homenatge a Patrick McGoohan” + projecció d'”acT.V.ty” by Mess/Age. \n Divendres 3 d’abril de 2009\n–17.30h. Spectra-UK: Projecció de “638 Ways To Kill Castro”\, de Dolan Cannell (V.O.)\n–19.00h. Conferència de Marià Sánchez Soler: “La xarxa neonazi internacional: una conspiració entre la ficció i els interessos econòmics”\n–20.00h. Projecció de “Fitna”\, de Geert Wilders (Holanda\, V.O.S.E.)\n–20.15h. Spectra-UK: Conferència de Robin Ramsay: “Politics and paranoia” (trad. simultània)\n–21.15h. Sessió d’El ProtoGrama \nDissabte 4 d’abril de 2009 \n–17.00h. Sessió d’El ProtoGrama\n–17.30h. Projecció de “Mock Up On Mu”\, de Craig Baldwin (USA\, V.O.S.E.)\n–19.30h. Spectra-UK: Intervenció de Ken Hollings: “Welcome to Mars” (trad. simultània)\n–20.15h. “CosmiConspiracy”\, concert de My Cat Is An Alien (Torí) \nXtra-Spectra:\n—Dissabte 4 d’abril\, de les 10.00h a les 22.00h: Marató “Conspira TV”\, projecció de sèries de culte com X-Files\, The Prisoner\, etc. (Octubre CCC)\n—Dissabte 4 d’abril\, a les 23.30h: Alababarada Djs Conspiracy + live performance Dj Yekcoj Csid\, the satanic Dj (47 Social Club\, c/ Quart\, 47\, Barri del Carme – entrada lliure) \n \n—Tots els dies: exposició interactiva “El meu primer retrat robot” (Octubre CCC) \nSpectra 09 Sintonia (desclassificada): “Interruptus”\, de Nad Spiro \nMés informació i inscripció gratuïta a spectra.cat
URL:https://octubre.cat/activitat/spectra-segon-simposi-mundial-sobre-teories-de-la-conspiracio/
LOCATION:No definit
CATEGORIES:Spectra
ATTACH;FMTTYPE=image/jpeg:https://octubre.cat/www/wp-content/uploads/2020/07/activitat826.jpg
END:VEVENT
END:VCALENDAR