BEGIN:VCALENDAR
VERSION:2.0
PRODID:-//Octubre Centre de Cultura Contemporània - ECPv5.1.6//NONSGML v1.0//EN
CALSCALE:GREGORIAN
METHOD:PUBLISH
X-WR-CALNAME:Octubre Centre de Cultura Contemporània
X-ORIGINAL-URL:https://octubre.cat
X-WR-CALDESC:Events for Octubre Centre de Cultura Contemporània
BEGIN:VTIMEZONE
TZID:Europe/Andorra
BEGIN:DAYLIGHT
TZOFFSETFROM:+0100
TZOFFSETTO:+0200
TZNAME:CEST
DTSTART:20100328T010000
END:DAYLIGHT
BEGIN:STANDARD
TZOFFSETFROM:+0200
TZOFFSETTO:+0100
TZNAME:CET
DTSTART:20101031T010000
END:STANDARD
END:VTIMEZONE
BEGIN:VEVENT
DTSTART;TZID=Europe/Andorra:20100507T200000
DTEND;TZID=Europe/Andorra:20100507T200000
DTSTAMP:20260420T175533
CREATED:20200729T164903Z
LAST-MODIFIED:20200730T042443Z
UID:8823-1273262400-1273262400@octubre.cat
SUMMARY:Southern Arts Society
DESCRIPTION:Divendres 7 de maig\, a les 20.00h: Southern Arts Society (Sevilla).   \n  \n  \n\nAndy Jarman és una institució de la música pop contemporània i pocs poden presumir d’una carrera com la seua\, iniciada a principis dels 80 amb una sèrie d’EP’s que contenen clàssics ocults del post punk londinenc. A mitjan dècada dels 90\, va reaparèixer a Sevilla\, on va fundar el col·lectiu Karma\, d’on sorgirien personatges com el Señor Chinarro\, Maga o El Hombre Burbuja. Gairebé deu anys després\, tornaria amb el projecte Southern Arts Society\, amb un primer disc homònim publicat el 2005 que comptava amb col·laboradors de luxe.   El seu segon álbum\, Burning sand\, és un treball de cançons pop perfectes\, que transmeten quelcom de manera fàcilment assimilable\, sense complicacions\, però alhora amb maduresa\, amb distància\, potser amb nostàlgia\, del que ha sigut i del que haguera pogut ser. Històries personals o imaginades que commouen. Burning sand parla del seu país d’adopció\, sobre les seues gents\, sobre el seu optimisme i el romanticisme dels seus racons.
URL:https://octubre.cat/activitat/southern-arts-society/
LOCATION:No definit
CATEGORIES:Cicle de música pop
ATTACH;FMTTYPE=image/jpeg:https://octubre.cat/www/wp-content/uploads/2020/07/activitat1172.jpg
END:VEVENT
END:VCALENDAR