BEGIN:VCALENDAR
VERSION:2.0
PRODID:-//Octubre Centre de Cultura Contemporània - ECPv5.1.6//NONSGML v1.0//EN
CALSCALE:GREGORIAN
METHOD:PUBLISH
X-WR-CALNAME:Octubre Centre de Cultura Contemporània
X-ORIGINAL-URL:https://octubre.cat
X-WR-CALDESC:Events for Octubre Centre de Cultura Contemporània
BEGIN:VTIMEZONE
TZID:Europe/Andorra
BEGIN:DAYLIGHT
TZOFFSETFROM:+0100
TZOFFSETTO:+0200
TZNAME:CEST
DTSTART:20080330T010000
END:DAYLIGHT
BEGIN:STANDARD
TZOFFSETFROM:+0200
TZOFFSETTO:+0100
TZNAME:CET
DTSTART:20081026T010000
END:STANDARD
END:VTIMEZONE
BEGIN:VEVENT
DTSTART;TZID=Europe/Andorra:20080619T200000
DTEND;TZID=Europe/Andorra:20080619T200000
DTSTAMP:20260420T234757
CREATED:20200729T181915Z
LAST-MODIFIED:20200730T035751Z
UID:12595-1213905600-1213905600@octubre.cat
SUMMARY:Southerly (USA)
DESCRIPTION:Dijous 19\, 20.00h Southerly (USA)  \n  \n  \n\nInvasió sònica de la costa oest nordamericana (directament des de Portland\, Oregon)\, Southerly va ser el projecte de Krist Kreuger al qual se li han unit Robert Bartleson\, Ryan Heise (de System and Station\, Protest Hill) i Casey Montgomery.  (Amb la col·laboració de Tranquilo Música)
URL:https://octubre.cat/activitat/southerly-usa/
LOCATION:No definit
CATEGORIES:Cicle de música pop
ATTACH;FMTTYPE=image/jpeg:https://octubre.cat/www/wp-content/uploads/2020/07/musica1.jpg
END:VEVENT
END:VCALENDAR