BEGIN:VCALENDAR
VERSION:2.0
PRODID:-//Octubre Centre de Cultura Contemporània - ECPv5.1.6//NONSGML v1.0//EN
CALSCALE:GREGORIAN
METHOD:PUBLISH
X-WR-CALNAME:Octubre Centre de Cultura Contemporània
X-ORIGINAL-URL:https://octubre.cat
X-WR-CALDESC:Events for Octubre Centre de Cultura Contemporània
BEGIN:VTIMEZONE
TZID:Europe/Andorra
BEGIN:DAYLIGHT
TZOFFSETFROM:+0100
TZOFFSETTO:+0200
TZNAME:CEST
DTSTART:20090329T010000
END:DAYLIGHT
BEGIN:STANDARD
TZOFFSETFROM:+0200
TZOFFSETTO:+0100
TZNAME:CET
DTSTART:20091025T010000
END:STANDARD
END:VTIMEZONE
BEGIN:VEVENT
DTSTART;TZID=Europe/Andorra:20091106T200000
DTEND;TZID=Europe/Andorra:20091106T200000
DTSTAMP:20260420T222857
CREATED:20200729T182643Z
LAST-MODIFIED:20200729T182643Z
UID:12949-1257537600-1257537600@octubre.cat
SUMMARY:Soul Atac
DESCRIPTION:Divendres 6 de novembre a les 20.00h: concert de Soul Atac  \n  \n  \n\nDesprés de tres anys de silenci discogràfic\, Soul Atac ens ofereixen en directe temes del seu nou treball\, que promet ser una de les sorpreses de la propera temporada al panorama musical valencià. Cançons d’esperit negre i amb un so molt elaborat que\, tanmateix\, no s’oblida de les arrels.   Reconeguts recentement amb el premi del Jurat del Festinoval de LLeida i per la revista Enderrock\, aquesta macrobanda valenciana compta amb el prestigi de ser una de les primeres bandes d’inspiració negra en el nostre àmbit lingüístic.   Més d’un centenar de concerts a les espatlles són garantia de contundència als directes i delicadesa en les interpretacions de les seues tres vocalistes. Soul Atac és\, a hores d’ara\, la gran esperança de la música soul i funk al País Valencià. Un desplegament d’energia i feeling que no us podeu perdre.  Manoli Alandes: veu Anna Franco: veu Marga Landete: veu Dani Vara: saxo alt Paco Alcaina: saxo tenor Toni Benavent: trombó Jose Manuel Doménech: teclat Andreu Garcia: guitarra Paco Rovira: baix Edu Casany: percussió Ximo Femenia: bateria
URL:https://octubre.cat/activitat/soul-atac/
LOCATION:No definit
CATEGORIES:Cicle de música pop
ATTACH;FMTTYPE=image/jpeg:https://octubre.cat/www/wp-content/uploads/2020/07/activitat983.jpg
END:VEVENT
END:VCALENDAR