BEGIN:VCALENDAR
VERSION:2.0
PRODID:-//Octubre Centre de Cultura Contemporània - ECPv5.1.6//NONSGML v1.0//EN
CALSCALE:GREGORIAN
METHOD:PUBLISH
X-WR-CALNAME:Octubre Centre de Cultura Contemporània
X-ORIGINAL-URL:https://octubre.cat
X-WR-CALDESC:Events for Octubre Centre de Cultura Contemporània
BEGIN:VTIMEZONE
TZID:Europe/Andorra
BEGIN:DAYLIGHT
TZOFFSETFROM:+0100
TZOFFSETTO:+0200
TZNAME:CEST
DTSTART:20170326T010000
END:DAYLIGHT
BEGIN:STANDARD
TZOFFSETFROM:+0200
TZOFFSETTO:+0100
TZNAME:CET
DTSTART:20171029T010000
END:STANDARD
END:VTIMEZONE
BEGIN:VEVENT
DTSTART;TZID=Europe/Andorra:20170927T200000
DTEND;TZID=Europe/Andorra:20170927T200000
DTSTAMP:20260420T211540
CREATED:20200729T172706Z
LAST-MODIFIED:20200729T185907Z
UID:11207-1506542400-1506542400@octubre.cat
SUMMARY:Sopar Estellés 2017
DESCRIPTION:Dimecres 27 de setembre a les 20.00h. Amb l’actuació de la Coral Giner de la Societat Coral El Micalet. Connexió en directe amb els Sopars Estellés de Barcelona\, Palma i Brussel·les.  \n  \n  \n\n Amb l’actuació de la Coral Giner de la Societat Coral El Micalet  Connectarem en directe amb els Sopars Estellés de Barcelona\, Palma i Brussel·les  Més informació: ACPV. Reserves a: info@acpv.cat  — L’acte està organitzat per Acció Cultural del País Valencià (ACPV)\, l’Associació Col·legial d’Escriptors de Catalunya (ACEC)\, l’Associació d’Escriptors en Llengua Catalana (AELC)\, Ca Revolta\, Conselleria de Cultura del Govern Balear\, Institució de les Lletres Catalanes\, Obra Cultural Balear\, Omnium Cultural\, PEN Català\, Societat Coral El Micalet i el grup parlamentari europeu Verds-Aliança Lliure Europea.
URL:https://octubre.cat/activitat/sopar-estelles-2017/
LOCATION:Hall
CATEGORIES:Literatura
ATTACH;FMTTYPE=image/jpeg:https://octubre.cat/www/wp-content/uploads/2020/07/activitat2876.jpg
END:VEVENT
END:VCALENDAR