BEGIN:VCALENDAR
VERSION:2.0
PRODID:-//Octubre Centre de Cultura Contemporània - ECPv5.1.6//NONSGML v1.0//EN
CALSCALE:GREGORIAN
METHOD:PUBLISH
X-WR-CALNAME:Octubre Centre de Cultura Contemporània
X-ORIGINAL-URL:https://octubre.cat
X-WR-CALDESC:Events for Octubre Centre de Cultura Contemporània
BEGIN:VTIMEZONE
TZID:Europe/Andorra
BEGIN:DAYLIGHT
TZOFFSETFROM:+0100
TZOFFSETTO:+0200
TZNAME:CEST
DTSTART:20130331T010000
END:DAYLIGHT
BEGIN:STANDARD
TZOFFSETFROM:+0200
TZOFFSETTO:+0100
TZNAME:CET
DTSTART:20131027T010000
END:STANDARD
END:VTIMEZONE
BEGIN:VEVENT
DTSTART;TZID=Europe/Andorra:20130625T190000
DTEND;TZID=Europe/Andorra:20130625T190000
DTSTAMP:20260423T231527
CREATED:20200729T170117Z
LAST-MODIFIED:20200729T184148Z
UID:9573-1372186800-1372186800@octubre.cat
SUMMARY:'Són bojos aquests catalans!?'\, de David Valls
DESCRIPTION:Dimarts 25 de juny a les 19.00h\, projecció del documental ‘Són bojos aquests catalans!?’\, de David Valls  \n  \n  \n\n Presentació del documental per part de l’autor David Valls     El documental Són bojos\, aquests catalans!? comprova sobre el terreny la situació del català\, una de les llengües amb més parlants d’Europa.  L’Alina és una noia alemanya que per motius d’amor va decidir d’aprendre primer el català i\, sense saber el castellà\, va decidir de fer un tomb per Catalunya\, Catalunya del Nord\, Andorra i la Franja i tot aquest viatge ha quedat enregistrat per unes càmeres. No us perdeu que contesta la gent quan se li demana quantes llengües oficials hi ha a Catalunya\, o què passa a Perpinyà quan un vol parlar en català.   Són bojos aquests catalans!? reflecteix amb estil de roadmovie\, i en una primera part\, què passa quan es vol saber quina és la situació del català al Principat\, la Franja\, Catalunya del Nord i Andorra. A la majoria de catalanoparlants\, quan els parlen castellà o en francès\, canvien de llengua. Malgrat el pas del temps\, els anys de democràcia\, i que el català és una de les llengües més parlades d’Europa\, encara ara hi ha moltes coses de la vida quotidiana que no es poden fer en català\, i hi ha persones que arriben a pensar que aquesta és una situació normal. S’espera fer una segona part per a reflectir també la situació de la resta de territoris arreu dels Països Catalans.  El documental està apadrinat per Tallers per la Llengua i la Plataforma per la Llengua\, i compta amb l’assessorament tècnic i científic del Grup d’Estudi de Llengües Amenaçades (GELA) i del Centre Universitari de Sociolingüística i Comunicació  (CUSC) tots dos de la Universitat de Barcelona.  Ha estat un projecte finançat amb micromecenatge\, on centenars de persones han posat el seu  gra de sorra per fer-ho realitat.
URL:https://octubre.cat/activitat/son-bojos-aquests-catalans-de-david-valls/
LOCATION:Sala d’actes
CATEGORIES:Cinema
ATTACH;FMTTYPE=image/jpeg:https://octubre.cat/www/wp-content/uploads/2020/07/activitat1830.jpg
END:VEVENT
END:VCALENDAR