BEGIN:VCALENDAR
VERSION:2.0
PRODID:-//Octubre Centre de Cultura Contemporània - ECPv5.1.6//NONSGML v1.0//EN
CALSCALE:GREGORIAN
METHOD:PUBLISH
X-WR-CALNAME:Octubre Centre de Cultura Contemporània
X-ORIGINAL-URL:https://octubre.cat
X-WR-CALDESC:Events for Octubre Centre de Cultura Contemporània
BEGIN:VTIMEZONE
TZID:Europe/Andorra
BEGIN:DAYLIGHT
TZOFFSETFROM:+0100
TZOFFSETTO:+0200
TZNAME:CEST
DTSTART:20150329T010000
END:DAYLIGHT
BEGIN:STANDARD
TZOFFSETFROM:+0200
TZOFFSETTO:+0100
TZNAME:CET
DTSTART:20151025T010000
END:STANDARD
END:VTIMEZONE
BEGIN:VEVENT
DTSTART;TZID=Europe/Andorra:20150617T190000
DTEND;TZID=Europe/Andorra:20150617T190000
DTSTAMP:20260421T225156
CREATED:20200729T171115Z
LAST-MODIFIED:20200730T041448Z
UID:10196-1434567600-1434567600@octubre.cat
SUMMARY:' Sobre el cielo de Azerbaiyán'\, de Sagrario Perpiñán
DESCRIPTION:Dijous 4 de juny a les 19.00h. Projecció inclosa dins del Segon cicle de Cinema Social. Entrada lliure.  \n  \n  \n\n Un document sobre els pilots republicans que lluitaren a la Guerra Civil i després en la Segona Guerra Mundial per protegir els pous petrolífers de Bakú dels atacs de l’exèrcit nazi. És la història d’un grup d’homes d’acció\, plens de coratge i determinació que mereixen el dret de formar part de la història.  Direcció: Sagrario Perpiñán (2013) Guió: Sagrario Perpiñán i Samuel Sebastián Idea original: Gyulnara Khanbabaeva Producció: Pablo Gil (Volya Productions)\, Kamil Memmedov (Salname) Producció executiva: Eleonora Vatral Durada: 52 minuts  Nota: La banda sonora és obra de Folk-Jazz-Árabe\, dos components de la qual (Will McCarthy i Nuno Alves) oferiran un concert a l’Octubre CCC el divendres 5 de juny.   Entrada lliure Organitzat amb la col·laboració d’El Cine Social Coordinació del cicle: Antonio Lloréns
URL:https://octubre.cat/activitat/sobre-el-cielo-de-azerbaiyan-de-sagrario-perpinan/
LOCATION:Sala d’actes
CATEGORIES:Segon cicle de cinema social
ATTACH;FMTTYPE=image/jpeg:https://octubre.cat/www/wp-content/uploads/2020/07/activitat2337.jpg
END:VEVENT
END:VCALENDAR