BEGIN:VCALENDAR
VERSION:2.0
PRODID:-//Octubre Centre de Cultura Contemporània - ECPv5.1.6//NONSGML v1.0//EN
CALSCALE:GREGORIAN
METHOD:PUBLISH
X-WR-CALNAME:Octubre Centre de Cultura Contemporània
X-ORIGINAL-URL:https://octubre.cat
X-WR-CALDESC:Events for Octubre Centre de Cultura Contemporània
BEGIN:VTIMEZONE
TZID:Europe/Andorra
BEGIN:DAYLIGHT
TZOFFSETFROM:+0100
TZOFFSETTO:+0200
TZNAME:CEST
DTSTART:20100328T010000
END:DAYLIGHT
BEGIN:STANDARD
TZOFFSETFROM:+0200
TZOFFSETTO:+0100
TZNAME:CET
DTSTART:20101031T010000
END:STANDARD
END:VTIMEZONE
BEGIN:VEVENT
DTSTART;TZID=Europe/Andorra:20101209T193000
DTEND;TZID=Europe/Andorra:20101209T193000
DTSTAMP:20260420T170122
CREATED:20200729T165245Z
LAST-MODIFIED:20260104T191804Z
UID:9065-1291923000-1291923000@octubre.cat
SUMMARY:Josep Huguet. Sobirania i innovació: receptes per sortir de la crisi
DESCRIPTION:Conferència “Sobirania i innovació: receptes per sortir de la crisi” a càrrec de Josep Huguet\, conseller d’Innovació\, Universitats i Empresa de la Generalitat de Catalunya. \nJosep Huguet i Biosca (Manresa\, 1951) és diputat al Parlament de Catalunya per ERC des de 1995. Enginyer industrial i llicenciat en Història contemporània\, ha sigut director d’una empresa d’enginyeria i docent en diversos centres educatius i en la Universitat Catalana d’Estiu. També compta amb una llarga trajectòria política. Huguet ha representat ERC a la Comissió Mixta de Transferències Estat-Generalitat entre 1993 i 1995\, diputat per ERC des de 1995 i portaveu del grup a la cambra entre 1994 i 2004\, quan va ser nomenat conseller de Comerç\, Turisme i Consum. En la darrera legislatura\, però\, va passar a la Conselleria d’Innovació\, Universitats i Empresa. És\, a més\, autor de diversos llibres\, entre els quals destaca l’últim que ha publicat Emancipar Catalunya. \n—\nOrganitza: Esquerra Republicana del País Valencià
URL:https://octubre.cat/activitat/sobirania-i-innovacio-receptes-per-sortir-de-la-crisi/
LOCATION:No definit
CATEGORIES:Tribuna
ATTACH;FMTTYPE=image/jpeg:https://octubre.cat/www/wp-content/uploads/2020/07/activitat1322.jpg
END:VEVENT
END:VCALENDAR