BEGIN:VCALENDAR
VERSION:2.0
PRODID:-//Octubre Centre de Cultura Contemporània - ECPv5.1.6//NONSGML v1.0//EN
CALSCALE:GREGORIAN
METHOD:PUBLISH
X-WR-CALNAME:Octubre Centre de Cultura Contemporània
X-ORIGINAL-URL:https://octubre.cat
X-WR-CALDESC:Events for Octubre Centre de Cultura Contemporània
BEGIN:VTIMEZONE
TZID:Europe/Andorra
BEGIN:DAYLIGHT
TZOFFSETFROM:+0100
TZOFFSETTO:+0200
TZNAME:CEST
DTSTART:20100328T010000
END:DAYLIGHT
BEGIN:STANDARD
TZOFFSETFROM:+0200
TZOFFSETTO:+0100
TZNAME:CET
DTSTART:20101031T010000
END:STANDARD
END:VTIMEZONE
BEGIN:VEVENT
DTSTART;TZID=Europe/Andorra:20100513T200000
DTEND;TZID=Europe/Andorra:20100513T200000
DTSTAMP:20260422T115506
CREATED:20200729T164904Z
LAST-MODIFIED:20200730T042444Z
UID:8824-1273780800-1273780800@octubre.cat
SUMMARY:So Cow
DESCRIPTION:Dijous 13 de maig\, a les 20.00h: So Cow (Irlanda).   \n  \n  \n\nSo Cow és la personificació i ampul·losa persona de l’artista Brian Kelly. Les seues atractives melodies de lletres afilades i enginyoses contribueixen a la seua popularitat. Aquest elegant i jove cantautor\, procedent d’Irlanda\, però en plena gira en aquests moments\, té un estil musical tan divers que sovint s’ha comparat amb grups tan diametralment oposats com ABBA i Swell Maps.   En les seues pròpies paraules\, el seu so és fruit de “dotze anys de prova i error\, que han resultat en alguna cosa que sona com la música que m’agradaria escoltar si l’escoltara a la ràdio”. Entre les seues múltiples influències cal destacar Robyn Hitchcock / Soft Boys\, Chris Knox\, Television Personalities\, Kim Jung Mi\, Amature Amplifier\, però al darrere hi ha un llarg etcètera.
URL:https://octubre.cat/activitat/so-cow/
LOCATION:No definit
CATEGORIES:Cicle de música pop
ATTACH;FMTTYPE=image/jpeg:https://octubre.cat/www/wp-content/uploads/2020/07/activitat1173.jpg
END:VEVENT
END:VCALENDAR