BEGIN:VCALENDAR
VERSION:2.0
PRODID:-//Octubre Centre de Cultura Contemporània - ECPv5.1.6//NONSGML v1.0//EN
CALSCALE:GREGORIAN
METHOD:PUBLISH
X-WR-CALNAME:Octubre Centre de Cultura Contemporània
X-ORIGINAL-URL:https://octubre.cat
X-WR-CALDESC:Events for Octubre Centre de Cultura Contemporània
BEGIN:VTIMEZONE
TZID:Europe/Andorra
BEGIN:DAYLIGHT
TZOFFSETFROM:+0100
TZOFFSETTO:+0200
TZNAME:CEST
DTSTART:20080330T010000
END:DAYLIGHT
BEGIN:STANDARD
TZOFFSETFROM:+0200
TZOFFSETTO:+0100
TZNAME:CET
DTSTART:20081026T010000
END:STANDARD
END:VTIMEZONE
BEGIN:VEVENT
DTSTART;TZID=Europe/Andorra:20080417T200000
DTEND;TZID=Europe/Andorra:20080417T200000
DTSTAMP:20260420T215149
CREATED:20200729T181805Z
LAST-MODIFIED:20200730T035656Z
UID:12525-1208462400-1208462400@octubre.cat
SUMMARY:Sitja
DESCRIPTION:Amb tendències tradicionalistes surt de Vila-real pujant a l’avantguarda més puntera de la música d’arrel el grup Sitja. Des dels seus inicis Sitja ha anat conreant un currículum replet de fites que li han permés ascendir en el món del folk. Així resulta sucós escoltar el so d’una citra valenciana acompanyat per ritmes contemporanis\, espais amb aroma mediterrani sota el repic d’un guitarró i l’arc d’un violí\, o fresques melodies sota el rerafons d’unes folies. Aquest utòpic indret és al que Sitja mira de transportar als seus oients\, un espai quimèric on es barregen aromes de diversitat sota una clara mirada de transparència\, la que emana de l’arrel valenciana.  Elena Mezquita: veu i ritmes Anna Ortells: violí. Jordi Montesó: llaüt\, bandúrria\, vuit i citra Joan Gil: guitarra\, baix\, guitarró\, guitarro de l’Encarnació i flauta dolça José Salmerón: percussions
URL:https://octubre.cat/activitat/sitja/
LOCATION:No definit
CATEGORIES:Cicle de música pop
END:VEVENT
END:VCALENDAR