BEGIN:VCALENDAR
VERSION:2.0
PRODID:-//Octubre Centre de Cultura Contemporània - ECPv5.1.6//NONSGML v1.0//EN
CALSCALE:GREGORIAN
METHOD:PUBLISH
X-WR-CALNAME:Octubre Centre de Cultura Contemporània
X-ORIGINAL-URL:https://octubre.cat
X-WR-CALDESC:Events for Octubre Centre de Cultura Contemporània
BEGIN:VTIMEZONE
TZID:Europe/Andorra
BEGIN:DAYLIGHT
TZOFFSETFROM:+0100
TZOFFSETTO:+0200
TZNAME:CEST
DTSTART:20110327T010000
END:DAYLIGHT
BEGIN:STANDARD
TZOFFSETFROM:+0200
TZOFFSETTO:+0100
TZNAME:CET
DTSTART:20111030T010000
END:STANDARD
END:VTIMEZONE
BEGIN:VEVENT
DTSTART;TZID=Europe/Andorra:20111006T193000
DTEND;TZID=Europe/Andorra:20111006T193000
DTSTAMP:20260421T041917
CREATED:20200729T165618Z
LAST-MODIFIED:20200730T042858Z
UID:9282-1317929400-1317929400@octubre.cat
SUMMARY:Sindicats i societat enfront de les retallades socials
DESCRIPTION:Dijous 6 d’octubre a les 19.30h: “Sindicats i societat enfront de les retallades socials”\, amb J. Sabata\, V. Marui\, G. Bravo\, J. Asensio i A. Guamán  \n  \n  \n\nDebat organitzat per la Fundació CEPS amb la participació de:  -Javier Sabata (Comissió de Vaga – 15M) -Vicent Mauri (Intersindical Valenciana) -Gonçal Bravo (COS) -José Asensio (CGT)  Presentat per Adoración Guamán (professora de Dret del Treball de la Universitat de València i membre de CEPS)
URL:https://octubre.cat/activitat/sindicats-i-societat-enfront-de-les-retallades-socials/
LOCATION:No definit
CATEGORIES:Conferències i congressos
ATTACH;FMTTYPE=image/jpeg:https://octubre.cat/www/wp-content/uploads/2020/07/conferencia1.jpg
END:VEVENT
END:VCALENDAR