BEGIN:VCALENDAR
VERSION:2.0
PRODID:-//Octubre Centre de Cultura Contemporània - ECPv5.1.6//NONSGML v1.0//EN
CALSCALE:GREGORIAN
METHOD:PUBLISH
X-WR-CALNAME:Octubre Centre de Cultura Contemporània
X-ORIGINAL-URL:https://octubre.cat
X-WR-CALDESC:Events for Octubre Centre de Cultura Contemporània
BEGIN:VTIMEZONE
TZID:Europe/Andorra
BEGIN:DAYLIGHT
TZOFFSETFROM:+0100
TZOFFSETTO:+0200
TZNAME:CEST
DTSTART:20100328T010000
END:DAYLIGHT
BEGIN:STANDARD
TZOFFSETFROM:+0200
TZOFFSETTO:+0100
TZNAME:CET
DTSTART:20101031T010000
END:STANDARD
END:VTIMEZONE
BEGIN:VEVENT
DTSTART;TZID=Europe/Andorra:20100710T190000
DTEND;TZID=Europe/Andorra:20100710T190000
DTSTAMP:20260421T002444
CREATED:20200729T164957Z
LAST-MODIFIED:20200730T042526Z
UID:8877-1278788400-1278788400@octubre.cat
SUMMARY:Sinberifora (València) + Francis O'Saughnessy (Quebec)
DESCRIPTION:Dissabte 10 de juliol\, a les 19.00h: Sinberifora (València) + Francis O’Saughnessy (Quebec).   \n  \n  \n\nSinberifora és una associació de joves artistes d’acció interessats a fer-se càrrec tant de la producció del seu treball com de la distribució i la reflexió\, és a dir\, per un concepte d’autogestió ideològica de l’art. Està formada per un nombre variable de persones que\, individualment o col·lectiva\, treballen en esdeveniments específics i únics. Les accions que practiquen van des de l’acció sonora a la transformació subtil de la quotidianitat. De l’humor irònic i enginyós als exercicis de concentració minimalista. Una exploració de les possibilitats de l’art d’acció en els intersticis que queden entre gèneres i disciplines artístiques\, poètiques\, sonores\, escèniques\, etc. La busca de l’indefinit\, el contacte amb allò real\, la radicalitat conceptual\, la dialèctica amb l’espectacle… Sinberifora és un espai d’investigació i d’aprenentatge col·lectiu en tots els sentits.   En aquesta darrera sessió de la temporada del cicle Arrt d’Accció\, Sinberifora proposa un treball col·lectiu / simultani de diversos artistes. Les accions recorreran l’espai i el temps. Començaran a les 19.00h. Cada 10 minuts es produirà una nova acció\, establint un recorregut ascendent per l’edifici.   Francis O’Saughnessy També es comptarà amb la participació de Francis O’Saughnessy (Quebec\, Canadà\, 1980). Llicenciat en arts visuals per la Universitat de Laval i després d’haver fet una mestria especialitzada en performance i instal·lació en la Universitat de Quebec\, va començar a col·laborar amb Iñaki López Castro\, amb qui ha desenvolupat diverses accions i instal·lacions itinerants pels carrers de València. El 2004 va fundar al costat de Francis Arguin el col·lectiu “Les Frites Frettes”. El seu treball qüestiona les imatges mutants que\, a través de la postura del cos\, poden donar lloc a noves interpretacions. Amb ajuda de diverses matèries animals i humanes\, estudia el paper de la indeterminació que desestabilitza l’artista de performance. Igualment posa en dubte les empremtes deixades per la performance en forma d’instal·lacions\, fotos o videografies.   Programa Sala d’actes 19.30h. Icia Casado & Araceli Canales  Hall 19.40h. Ana Oliva 19.50h. Martí Gillem 20.00h. Marina Palomo 20.10h. Angela García 20.20h. Mathieu Bohet  Primer pis 20.30h. Martaerre   Terrat 20.40h. Lucía Peiró  20.50h. Francis O’Sauhgnessy  Espai itinerant  Fabrizio Potestad Álvaro Pichó
URL:https://octubre.cat/activitat/sinberifora-valencia-francis-osaughnessy-quebec/
LOCATION:No definit
CATEGORIES:Arrt d'Accció
ATTACH;FMTTYPE=image/jpeg:https://octubre.cat/www/wp-content/uploads/2020/07/activitat1227.jpg
END:VEVENT
END:VCALENDAR