BEGIN:VCALENDAR
VERSION:2.0
PRODID:-//Octubre Centre de Cultura Contemporània - ECPv5.1.6//NONSGML v1.0//EN
CALSCALE:GREGORIAN
METHOD:PUBLISH
X-WR-CALNAME:Octubre Centre de Cultura Contemporània
X-ORIGINAL-URL:https://octubre.cat
X-WR-CALDESC:Events for Octubre Centre de Cultura Contemporània
BEGIN:VTIMEZONE
TZID:Europe/Andorra
BEGIN:DAYLIGHT
TZOFFSETFROM:+0100
TZOFFSETTO:+0200
TZNAME:CEST
DTSTART:20130331T010000
END:DAYLIGHT
BEGIN:STANDARD
TZOFFSETFROM:+0200
TZOFFSETTO:+0100
TZNAME:CET
DTSTART:20131027T010000
END:STANDARD
END:VTIMEZONE
BEGIN:VEVENT
DTSTART;TZID=Europe/Andorra:20131016T190000
DTEND;TZID=Europe/Andorra:20131016T190000
DTSTAMP:20260421T045211
CREATED:20200729T170149Z
LAST-MODIFIED:20200729T184213Z
UID:9602-1381950000-1381950000@octubre.cat
SUMMARY:'Sinatra'\, de Francesc Betriu
DESCRIPTION:Dimecres 16 d’octubre a les 19.00h: projecció del film ‘Sinatra’ (1988)\, de Francesc Betriu\, presentat pel director. Primera pel·lícula del nou cicle Barcelona Escenari 2013  \n  \n  \n\n Projecció presentada pel director  Basada en la novel·la homònima de Raúl Núñez Premi Nacional de Cinematografia de la Generalitat de Catalunya al millor llargmetratge del 1988.  Sinopsi: Antonio Castro “Sinatra” (Alfredo Landa) és un home que treballa a un cabaret de Barcelona com a imitador del cantant Frank Sinatra. La seua esposa\, cambrera a la barra del mateix local\, l’abandora i Sinatra vagareja tota la nit per bars i carrerons\, fins que arriba a una pensió infecta del Raval\, on troba treball com a porter nocturn.  Director: Francesc Betriú (1988) Intèrprets: Alfredo Landa\, Maribel Verdú\, Ana Obregón\, Manuel Alexandre\, Mercedes Sampietro\, Julia Martínez\, Queta Claver\, Luis Ciges  Organitzat per l’Octubre CCC amb el patrocini de l’Institut de Cultura de Barcelona. Direcció del cicle: Antonio Llorens Entrada lliure
URL:https://octubre.cat/activitat/sinatra-de-francesc-betriu/
LOCATION:Sala d’actes
CATEGORIES:Barcelona Escenari 2013 (cinema)
ATTACH;FMTTYPE=image/jpeg:https://octubre.cat/www/wp-content/uploads/2020/07/activitat1866.jpg
END:VEVENT
END:VCALENDAR