BEGIN:VCALENDAR
VERSION:2.0
PRODID:-//Octubre Centre de Cultura Contemporània - ECPv5.1.6//NONSGML v1.0//EN
CALSCALE:GREGORIAN
METHOD:PUBLISH
X-WR-CALNAME:Octubre Centre de Cultura Contemporània
X-ORIGINAL-URL:https://octubre.cat
X-WR-CALDESC:Events for Octubre Centre de Cultura Contemporània
BEGIN:VTIMEZONE
TZID:Europe/Andorra
BEGIN:DAYLIGHT
TZOFFSETFROM:+0100
TZOFFSETTO:+0200
TZNAME:CEST
DTSTART:20140330T010000
END:DAYLIGHT
BEGIN:STANDARD
TZOFFSETFROM:+0200
TZOFFSETTO:+0100
TZNAME:CET
DTSTART:20141026T010000
END:STANDARD
END:VTIMEZONE
BEGIN:VEVENT
DTSTART;TZID=Europe/Andorra:20140926T000000
DTEND;TZID=Europe/Andorra:20140927T000000
DTSTAMP:20260421T195018
CREATED:20200729T170553Z
LAST-MODIFIED:20200730T041204Z
UID:9845-1411689600-1411776000@octubre.cat
SUMMARY:Simpòsium sobre Art d'acció
DESCRIPTION:Divendres 26 i dissabte 27 de setembre. Organitzat per El Col·lectibo i Las Posterioris amb la col·laboració de l’Octubre CCC. La sessió pública de performances serà el dissabte 27 de setembre a les 19.30h  \n  \n  \n\nOrganitzat per El col·lectibo / Las Posterioris  Durant dos dies de setembre\, un grup d’artistes i teòrics ens reunirem a l’Octubre Centre de Cultura Contemporània per a estudiar i discutir aspectes diversos relacionats amb l’Art d’acció.  El debat s’organitzarà al voltant de la qüestió proposada per Carlos Tejo per al catàleg del X Chamalle X\, Festival de arte performática de la Universidade de Pontevedra: Per què o per què no és pertinent practicar / observar / reflexionar art d’acció avui\, intentant abastar l’àmbit més ample possible de “pertinença”: antropològica\, política\, sociològica\, etc.  La pròpia proposta del professor en Pontevedra\, Carlos Tejo\, suggereix que existeix un problema en l’àmbit de l’acció artística. Intentarem identificar eixe problema de forma autocrítica\, amb la participació activa del públic inscrit per a l’ocasió.  Des de El col·lectibo / Las Posterioris\, grup d’investigació teoricopràctica\, ens pareix interessant enllaçar la nostra proposta amb la de Chamalle X per tal d’aconseguir un major desenvolupament dels dos projectes. La nostra idea és fer ús dels textos recopilats per Carlos Tejo al seu catàleg i utilitzar- los com a material de base per al debat.  La metodologia del Simpòsium serà oberta i horitzontal. Front a models jeràrquics\, en aquesta ocasió tant ponents com públic es situaran en un espai circular en què es podrà parlar tant per torn de paraula com per rotació\, de manera que es puguen escoltar totes les veus i arribar al final amb totes les qüestions plantejades. S’afavoriran els exemples pràctics i es requerirà de tots els ponents una acció que permeta veure els resultats pràctics dels participants.  D’allò que passe al Simpòsium eixirà un llibre que prolongarà el material crític del catàleg del X Chamalle X. Tant les ponències com les discussions i les accions seran acuradament registrades pel col·lectiu de ‘Registre múltiple\, arxiu\, debat i difusió de l’Art d’acció’ Las Posterioris\, i permanentment accessibles a la seua pàgina web.  Els assistent confirmats al Simpòsium són els següents:  –Joan Casellas (Barcelona)\, artista-gestor\, crític i investigador independent –Bartomeu Ferrando (València)\, artista-gestor\, professor de Performance a la Facultat de BB.AA. de València –Maria Fuset Llin (Ontinyent)\, artista\, investigadora en pedagogia i art d’acció –Raul Ortega (València)\, artista-gestor\, investigador en la Facultat de Belles Arts de València –Eva Pez (València)\, artista-gestora\, investigadora independent –Sara Rivera (Mallorca)\, historiadora\, crítica\, comissària i gestora –Carlos Tejo (Vigo)\, artista-gestor\, investigador i professor de performance a la Facultat de BB.AA. de Pontevedra –Álvaro Terrones (Onda)\, artista-gestor\, investigador en la Facultat de BB.AA. de València –Nelo Vilar (Artana)\, artista-gestor\, investigador\, llaurador i jornaler –Laura Yustas (Madrid-València)\, artista-gestora\, investigadora a la Facultat de BB.AA. de València –Fernando Baena (Madrid)\, artista-gestor\, investigador\, doctor en Belles Arts
URL:https://octubre.cat/activitat/simposium-sobre-art-daccio/
LOCATION:Àtic
CATEGORIES:Conferències i congressos
ATTACH;FMTTYPE=image/jpeg:https://octubre.cat/www/wp-content/uploads/2020/07/activitat2116.jpg
END:VEVENT
END:VCALENDAR