BEGIN:VCALENDAR
VERSION:2.0
PRODID:-//Octubre Centre de Cultura Contemporània - ECPv5.1.6//NONSGML v1.0//EN
CALSCALE:GREGORIAN
METHOD:PUBLISH
X-WR-CALNAME:Octubre Centre de Cultura Contemporània
X-ORIGINAL-URL:https://octubre.cat
X-WR-CALDESC:Events for Octubre Centre de Cultura Contemporània
BEGIN:VTIMEZONE
TZID:Europe/Andorra
BEGIN:DAYLIGHT
TZOFFSETFROM:+0100
TZOFFSETTO:+0200
TZNAME:CEST
DTSTART:20090329T010000
END:DAYLIGHT
BEGIN:STANDARD
TZOFFSETFROM:+0200
TZOFFSETTO:+0100
TZNAME:CET
DTSTART:20091025T010000
END:STANDARD
END:VTIMEZONE
BEGIN:VEVENT
DTSTART;TZID=Europe/Andorra:20090326T200000
DTEND;TZID=Europe/Andorra:20090326T200000
DTSTAMP:20260421T044857
CREATED:20200729T182328Z
LAST-MODIFIED:20200729T182328Z
UID:12767-1238097600-1238097600@octubre.cat
SUMMARY:Simone White
DESCRIPTION:Dijous 26 de març\, a les 20.00h:  Actuació de Simone White (Estats Units)  \n  \n  \n\nSimone White\, cantautora\, oriünda de Nova York\, va fer les seues primeres passes en el món de la música a Londres\, on es va instal·lar allà per l’any 2000. White va enregistrar el seu primer àlbum amb el productor David Domanich i el músic i amic personal Frank Bango. Va llançar The Sincere Recording Company Presents\, el 2003 en el segell de Bango\,  The Sincere Recording Company.  I Am The Man\, el seu segon treball\, fou editat amb el productor Mark Nevers (Lambchop/Calexico/Will Oldham/Silver Jews)\, a Nashville\, Tennessee. El 2006 va signar amb el segell anglès Honest Jons\, que distribuiria I Am The Man al Regne Unit\, al Japó\, a Itàlia i a Holanda el 2007 i posteriorment\, a França\, Alemanya i Espanya.   L’àlbum fou el preferit per als crítics de MOJO\, Q Magazine i Daily Mail\, que han destacat la seua veu\, el seu caràcter intimista i el seu gran talent. El 2007 i 2008 White va girar pel Regne Unit i Europa amb bandes com Nouvelle Vague\, Alela Diane\, Teitur o Little Dragon. Ha col·laborat amb músics de la talla de Damon Albarn. En l’actualitat\, White resideix a Venice (Califòrnia).
URL:https://octubre.cat/activitat/simone-white/
LOCATION:No definit
CATEGORIES:Cicle de música pop
ATTACH;FMTTYPE=image/jpeg:https://octubre.cat/www/wp-content/uploads/2020/07/activitat792.jpg
END:VEVENT
END:VCALENDAR