BEGIN:VCALENDAR
VERSION:2.0
PRODID:-//Octubre Centre de Cultura Contemporània - ECPv5.1.6//NONSGML v1.0//EN
CALSCALE:GREGORIAN
METHOD:PUBLISH
X-WR-CALNAME:Octubre Centre de Cultura Contemporània
X-ORIGINAL-URL:https://octubre.cat
X-WR-CALDESC:Events for Octubre Centre de Cultura Contemporània
BEGIN:VTIMEZONE
TZID:Europe/Andorra
BEGIN:DAYLIGHT
TZOFFSETFROM:+0100
TZOFFSETTO:+0200
TZNAME:CEST
DTSTART:20100328T010000
END:DAYLIGHT
BEGIN:STANDARD
TZOFFSETFROM:+0200
TZOFFSETTO:+0100
TZNAME:CET
DTSTART:20101031T010000
END:STANDARD
END:VTIMEZONE
BEGIN:VEVENT
DTSTART;TZID=Europe/Andorra:20100309T190000
DTEND;TZID=Europe/Andorra:20100309T190000
DTSTAMP:20260421T020250
CREATED:20200729T164802Z
LAST-MODIFIED:20260104T163140Z
UID:8763-1268161200-1268161200@octubre.cat
SUMMARY:Sí al valencià
DESCRIPTION:Acte de presentació de la campanya “Pel coneixement del valencià per a l’accés a un lloc de treball de les administracions valencianes”. \nAmb la intervenció de:\n—Rosa Solbes\, periodista.\n—Carme Miquel\, mestra.\n—Jesús Huguet\, escriptor.\n—Joan Sifre\, sindicalista. \nOrganitza: Plataforma Sí al valencià.
URL:https://octubre.cat/activitat/si-al-valencia/
LOCATION:No definit
CATEGORIES:Conferències i congressos
ATTACH;FMTTYPE=image/jpeg:https://octubre.cat/www/wp-content/uploads/2020/07/activitat1109.jpg
END:VEVENT
END:VCALENDAR