BEGIN:VCALENDAR
VERSION:2.0
PRODID:-//Octubre Centre de Cultura Contemporània - ECPv5.1.6//NONSGML v1.0//EN
CALSCALE:GREGORIAN
METHOD:PUBLISH
X-WR-CALNAME:Octubre Centre de Cultura Contemporània
X-ORIGINAL-URL:https://octubre.cat
X-WR-CALDESC:Events for Octubre Centre de Cultura Contemporània
BEGIN:VTIMEZONE
TZID:Europe/Andorra
BEGIN:DAYLIGHT
TZOFFSETFROM:+0100
TZOFFSETTO:+0200
TZNAME:CEST
DTSTART:20140330T010000
END:DAYLIGHT
BEGIN:STANDARD
TZOFFSETFROM:+0200
TZOFFSETTO:+0100
TZNAME:CET
DTSTART:20141026T010000
END:STANDARD
END:VTIMEZONE
BEGIN:VEVENT
DTSTART;TZID=Europe/Andorra:20140429T190000
DTEND;TZID=Europe/Andorra:20140429T190000
DTSTAMP:20260421T150131
CREATED:20200729T170420Z
LAST-MODIFIED:20200729T184428Z
UID:9747-1398798000-1398798000@octubre.cat
SUMMARY:'Shoah\, cavar amb la mirada'\, per Carles Torner
DESCRIPTION:Dimarts 29 d’abril a les 19.00h. Conferència organitzada per l’associació d’Amistat Judeo-Cristiana amb la col·laboració de l’Octubre CCC  \n  \n  \n\n Conferència “Shoah\, cavar amb la mirada”\, a càrrec de l’assagista i poeta Carles Torner.  Organitzada per l’Associació d’Amistat Judeo-Cristiana amb la col·laboració de l’Octubre CCC   Carles Torner (Barcelona\, 1963) és poeta\, narrador i assagista. Actualment  és professor a la facultat de Comunicació i Relacions Internacionals Blanquerna de la URL. Va ser director de l’àrea de Literatura i Pensament de l’Institut Ramon Llull\, responsable del programa literari de la cultura catalana com a convidada d’honor a la fira de Frankfurt 2007. Del 1993 al 2004\, en representació del PEN català\, va ser dirigent del PEN internacional i presidí la plataforma d’ONG per una Declaració Universal de Drets Lingüístics.  En poesia ha publicat A la ciutat Blanca (premi Amadeu Oller 1984)\, Als límits de la sal (premi Carles Riba 1984)\, L’àngel del Saqueig (1990)\, Viure després (premi de la Crítica 1999) i La núvia d’Europa (2008). En prosa\, ha publicat la novel·la L’estrangera (1997) i els relats i assajos breus de L’arca de Babel (2005).  Doctor en ciències de l’educació per la Universitat de París VIII\, ha publicat Shoah\, una pedagogia de la memòria (2002\, versió francesa 2001)\, sobre el clàssic del cinema de Claude Lanzmann. Una versió condensada del llibre ha estat publicada en castellà: Shoah\, cavar con la mirada (2005).
URL:https://octubre.cat/activitat/shoah-cavar-amb-la-mirada-per-carles-torner/
CATEGORIES:Conferències i congressos
ATTACH;FMTTYPE=image/jpeg:https://octubre.cat/www/wp-content/uploads/2020/07/activitat2043.jpg
END:VEVENT
END:VCALENDAR