BEGIN:VCALENDAR
VERSION:2.0
PRODID:-//Octubre Centre de Cultura Contemporània - ECPv5.1.6//NONSGML v1.0//EN
CALSCALE:GREGORIAN
METHOD:PUBLISH
X-WR-CALNAME:Octubre Centre de Cultura Contemporània
X-ORIGINAL-URL:https://octubre.cat
X-WR-CALDESC:Events for Octubre Centre de Cultura Contemporània
BEGIN:VTIMEZONE
TZID:Europe/Andorra
BEGIN:DAYLIGHT
TZOFFSETFROM:+0100
TZOFFSETTO:+0200
TZNAME:CEST
DTSTART:20190331T010000
END:DAYLIGHT
BEGIN:STANDARD
TZOFFSETFROM:+0200
TZOFFSETTO:+0100
TZNAME:CET
DTSTART:20191027T010000
END:STANDARD
END:VTIMEZONE
BEGIN:VEVENT
DTSTART;TZID=Europe/Andorra:20190201T193000
DTEND;TZID=Europe/Andorra:20190201T193000
DTSTAMP:20260421T054311
CREATED:20200729T173250Z
LAST-MODIFIED:20260211T093740Z
UID:11356-1549049400-1549049400@octubre.cat
SUMMARY:Sessions d’Improvisació Lliure #7
DESCRIPTION:Presentació del disc Bregues de moixos de Bartolomé Ferrando\, Josep Lluís Galiana i Avelino Saavedra. Divendres 1 de febrer a les 19.30h. Entrada: 5€.	 \n  \n  \n\n 	 Presentació del disc Bregues de moixos de Bartolomé Ferrando\, Josep Lluís Galiana i Avelino Saavedra (Liquen Records).  Integrat pels artistes Bartolomé Ferrando (veu)\, Josep Lluís Galiana (saxos) i Avelino Saavedra (bateria)\, BREGUES DE MOIXOS acaba de publicar el seu primer treball discogràfic. Es tracta d’un procés participatiu i d’autoria col·lectiva\, una deriva de sons i fonemes\, de paraules i colps\, de significants i significats\, de semanticitats i asemanticitats\, de jocs lèxics i aventures lingüístiques. Cadascun dels membres de BREGUES DE MOIXOS aporta la seua sonovisió personal\, generant un flux sonor de increïble força emocional i en el qual no hi manquen bones dosis d’humor i delicada ironia.   Tota la música està composta per BARTOLOMÉ FERRANDO (veu)\, JOSEP LLUÍS GALIANA (saxofons baríton\, tenor i soprano) i AVELINO SAAVEDRA (bateria i objectes sonors).  — Cicle organitzat per l’Octubre CCC amb la col·laboració del Laboratori per a la Investigació de Processos Creatius Contemporanis AD LAB i el segell discogràfic Liquen Records. Entrada en taquilla: 5€ Reserva telefònica d’entrades al 963157799
URL:https://octubre.cat/activitat/sessions-dimprovisacio-lliure-7/
LOCATION:Sala d’actes
CATEGORIES:Sessions d’Improvisació Lliure
ATTACH;FMTTYPE=image/jpeg:https://octubre.cat/www/wp-content/uploads/2020/07/activitat3202.jpg
END:VEVENT
END:VCALENDAR