BEGIN:VCALENDAR
VERSION:2.0
PRODID:-//Octubre Centre de Cultura Contemporània - ECPv5.1.6//NONSGML v1.0//EN
CALSCALE:GREGORIAN
METHOD:PUBLISH
X-WR-CALNAME:Octubre Centre de Cultura Contemporània
X-ORIGINAL-URL:https://octubre.cat
X-WR-CALDESC:Events for Octubre Centre de Cultura Contemporània
BEGIN:VTIMEZONE
TZID:Europe/Andorra
BEGIN:DAYLIGHT
TZOFFSETFROM:+0100
TZOFFSETTO:+0200
TZNAME:CEST
DTSTART:20180325T010000
END:DAYLIGHT
BEGIN:STANDARD
TZOFFSETFROM:+0200
TZOFFSETTO:+0100
TZNAME:CET
DTSTART:20181028T010000
END:STANDARD
END:VTIMEZONE
BEGIN:VEVENT
DTSTART;TZID=Europe/Andorra:20181218T193000
DTEND;TZID=Europe/Andorra:20181218T193000
DTSTAMP:20260421T072121
CREATED:20200729T173225Z
LAST-MODIFIED:20260211T093809Z
UID:11330-1545161400-1545161400@octubre.cat
SUMMARY:Sessions d’Improvisació Lliure #6
DESCRIPTION:Dimarts 18 de desembre a les 19.30h. Sessions d’Improvisació Lliure #6. Entrada 5€.	 \n  \n  \n\n 	 Primer encontre dels dos duets de saxofon i bateria més destacats de l’actual escena europea de la improvisació lliure.  · DUOT (Albert Cirera + Ramon Prats) · Josep Lluís Galiana & Avelino Saavedra  DUOT són Albert Cirera als saxos i Ramon Prats a la bateria i actualment són un dels grups més rellevants de free jazz i música improvisada de la Península Ibèrica.  Des de 2007\, quan a última hora van ser cridats a substituir l’actuació de Paal Nielsen-Love a la Fundació Miró de Barcelona\, no han parat de moure’s\, créixer i treballar. Amb una proposta valenta i transgressora\, el grup continua buscant els límits del seu so convertint-se en un dels referents de la nova escena avantgarde.  Han publicat tres àlbums: “Duot” (2008)\, “Cactus” (2011) i “Live at Jamboree” (2015)\, tots ells editats per la discogràfica Repetidor. Han enregistrat “Food” (2017) amb el guitarrista Andy Moor i també formen part de “Liquid Trio”\, juntament amb el pianista Agustí Fernández. Fruits d’aquesta col·laboració són “Marianne” (2016) i “Liquid Trio Plays Bernoulli” (2017).  DUOT s’ha mogut per Espanya\, Bèlgica\, Holanda\, Portugal\, Dinamarca\, Suècia\, Itàlia i Rússia. Han compartit escenari amb músics com Joe Morris\, Tom Chant\, Alessandra Patruco\, Herman Müntzig\, Joachim Badenhorst\, Masa Kamaguchi\, Hugo Antunes i Alan Wilkinson\, entre d’altres.  L’any 2010 van participar al Showcase Jazz From Catalonia i el 2012 van ser premiats com a millor grup de l’any per l’Associació de Músics de Jazz i Música Moderna de Catalunya (AMJM).  — La informació sobre Josep Lluís Galiana i Avelino Saavedra es pot trobar en aquest enllaç.  — Cicle organitzat per l’Octubre CCC amb la col·laboració del Laboratori per a la Investigació de Processos Creatius Contemporanis AD LAB i el segell discogràfic Liquen Records. Entrada en taquilla: 5€ Reserva telefònica d’entrades al 963157799
URL:https://octubre.cat/activitat/sessions-dimprovisacio-lliure-6/
LOCATION:Sala d’actes
CATEGORIES:Sessions d’Improvisació Lliure
ATTACH;FMTTYPE=image/jpeg:https://octubre.cat/www/wp-content/uploads/2020/07/activitat3174.jpg
END:VEVENT
END:VCALENDAR