BEGIN:VCALENDAR
VERSION:2.0
PRODID:-//Octubre Centre de Cultura Contemporània - ECPv5.1.6//NONSGML v1.0//EN
CALSCALE:GREGORIAN
METHOD:PUBLISH
X-WR-CALNAME:Octubre Centre de Cultura Contemporània
X-ORIGINAL-URL:https://octubre.cat
X-WR-CALDESC:Events for Octubre Centre de Cultura Contemporània
BEGIN:VTIMEZONE
TZID:Europe/Andorra
BEGIN:DAYLIGHT
TZOFFSETFROM:+0100
TZOFFSETTO:+0200
TZNAME:CEST
DTSTART:20090329T010000
END:DAYLIGHT
BEGIN:STANDARD
TZOFFSETFROM:+0200
TZOFFSETTO:+0100
TZNAME:CET
DTSTART:20091025T010000
END:STANDARD
END:VTIMEZONE
BEGIN:VEVENT
DTSTART;TZID=Europe/Andorra:20090428T193000
DTEND;TZID=Europe/Andorra:20090428T193000
DTSTAMP:20260422T200111
CREATED:20200729T182424Z
LAST-MODIFIED:20200729T182424Z
UID:12819-1240947000-1240947000@octubre.cat
SUMMARY:Sessió inaugural: Copenhague
DESCRIPTION:Dimarts 28 d’abril\, a les 19.30h: Sessió inaugural. “Cap a una ciutat de les persones. La dimensió social de l’espai públic”\, conferència a càrrec de Jan Gehl\, arquitecte de MAA & FRIBA i professor emèrit de Disseny Urbà en l’Escola d’Arquitectura de Copenhague.   \n  \n  \n\nConferència “Cap a una ciutat de les persones. La dimensió social de l’espai públic”\, a càrrec de Jan Gehl.  Jan Gehl és arquitecte de MAA & FRIBA i professor emèrit de Disseny Urbà en l’Escola d’Arquitectura de Copenhague. Ha obtingut el Premi Sir Patrick Abercrombie per la seua contribució exemplar a la planificació urbanística\, premi que atorga la Unió Internacional d’Arquitectes\, així com un doctorat honorari de la Universitat Heriot-Watt d’Edimburg.   Contrapunt a càrrec de l’arquitecte David Estal\, promotor de diverses iniciatives per la recuperació de l’espai públic de València com la “Via Verda”.   Amb la intervenció:  Vicent Pons\, president de l’Institut del Territori Luis Sendra\, president del Col·legi Territorial d’Arquitectes de València Gersón Beltrán López\, president del Col·legi de Geògrafs de la Comunitat Valenciana
URL:https://octubre.cat/activitat/sessio-inaugural-copenhague/
LOCATION:No definit
CATEGORIES:Institut del Territori
ATTACH;FMTTYPE=image/jpeg:https://octubre.cat/www/wp-content/uploads/2020/07/activitat847.jpg
END:VEVENT
END:VCALENDAR