BEGIN:VCALENDAR
VERSION:2.0
PRODID:-//Octubre Centre de Cultura Contemporània - ECPv5.1.6//NONSGML v1.0//EN
CALSCALE:GREGORIAN
METHOD:PUBLISH
X-WR-CALNAME:Octubre Centre de Cultura Contemporània
X-ORIGINAL-URL:https://octubre.cat
X-WR-CALDESC:Events for Octubre Centre de Cultura Contemporània
BEGIN:VTIMEZONE
TZID:Europe/Andorra
BEGIN:DAYLIGHT
TZOFFSETFROM:+0100
TZOFFSETTO:+0200
TZNAME:CEST
DTSTART:20220327T010000
END:DAYLIGHT
BEGIN:STANDARD
TZOFFSETFROM:+0200
TZOFFSETTO:+0100
TZNAME:CET
DTSTART:20221030T010000
END:STANDARD
END:VTIMEZONE
BEGIN:VEVENT
DTSTART;TZID=Europe/Andorra:20221123T193000
DTEND;TZID=Europe/Andorra:20221123T193000
DTSTAMP:20260420T210115
CREATED:20221103T160734Z
LAST-MODIFIED:20250624T095458Z
UID:18986-1669231800-1669231800@octubre.cat
SUMMARY:Sessió d’improvisació lliure #14: Marín + Galiana + Saavedra
DESCRIPTION:Junts per primera vegada! \nAmadeu MARÍN\, Josep Lluís GALIANA i Avelino SAAVEDRA\, en concert.\n\nAmadeu Marín: Hendrix m’enlluerna als quinze anys i no puc parar d’estimar i explorar la guitarra. Actum esperona la meua curiositat i descobrisc Zaj\, Santos i Brossa. M’inspiren el pensament i l’obra de Cage\, així com el llenguatge expansiu de Bailey. Sobretot\, em fascina la sensació d’estar a la vora del precipici i disposat a fer el salt que la improvisació lliure m’ofereix!  \nJosep Lluís Galiana i Avelino Saavedra són TRANSITIONS i vénen mapejant des de fa una dècada i nombroses gravacions editades els límits d’allò imprevist en música i la verticalitat dels esdeveniments sonors i artístics. Entre la improvisació lliure\, el free jazz i la música experimental\, Galiana i Saavedra delimiten música i soroll\, dialoguen en asimètriques derives sonores i exploren nous territoris asignificants. \n—\nAmb la col·laboració de Liquen Records i del Laboratori per a la Investigació dels Processos Creatius Contemporanis (AD LAB)
URL:https://octubre.cat/activitat/sessio-dimprovisacio-lliure-14-marin-galiana-saavedra/
LOCATION:Sala d’actes
CATEGORIES:Sessions d’Improvisació Lliure
ATTACH;FMTTYPE=image/jpeg:https://octubre.cat/www/wp-content/uploads/2022/11/marin_saaveda_galiana-scaled.jpg
END:VEVENT
END:VCALENDAR