BEGIN:VCALENDAR
VERSION:2.0
PRODID:-//Octubre Centre de Cultura Contemporània - ECPv5.1.6//NONSGML v1.0//EN
CALSCALE:GREGORIAN
METHOD:PUBLISH
X-WR-CALNAME:Octubre Centre de Cultura Contemporània
X-ORIGINAL-URL:https://octubre.cat
X-WR-CALDESC:Events for Octubre Centre de Cultura Contemporània
BEGIN:VTIMEZONE
TZID:Europe/Andorra
BEGIN:DAYLIGHT
TZOFFSETFROM:+0100
TZOFFSETTO:+0200
TZNAME:CEST
DTSTART:20230326T010000
END:DAYLIGHT
BEGIN:STANDARD
TZOFFSETFROM:+0200
TZOFFSETTO:+0100
TZNAME:CET
DTSTART:20231029T010000
END:STANDARD
END:VTIMEZONE
BEGIN:VEVENT
DTSTART;TZID=Europe/Andorra:20231216T120000
DTEND;TZID=Europe/Andorra:20231216T120000
DTSTAMP:20260422T025655
CREATED:20231203T151848Z
LAST-MODIFIED:20231203T151848Z
UID:20677-1702728000-1702728000@octubre.cat
SUMMARY:Sessió de contes “Per Gaza”
DESCRIPTION:Amb la participació de\n—Anna Ballester\n—Susu Benítez\n—Domingo Chinchilla\n—Vicente Cortés\n—Oscar Mora\n—Nuria Urioz\nIntroducció: Zuzu Dalo \nPúblic familiar.\nRecaptació per a UNRWA\, Agència de la ONU per als Refugiats de Palestina\nDonatius a partir de 5 euros\nParticipa a la Fila 0: ES45 3159 0029 3427 3835 3222 \n—\nOrganitzat per NANO (Narradores amb Narradors Organitzats) i BDS País Valencià
URL:https://octubre.cat/activitat/sessio-de-contes-per-gaza/
LOCATION:Sala d’actes
CATEGORIES:Teatre
ATTACH;FMTTYPE=image/jpeg:https://octubre.cat/www/wp-content/uploads/2023/12/per-gaza.jpg
END:VEVENT
END:VCALENDAR