BEGIN:VCALENDAR
VERSION:2.0
PRODID:-//Octubre Centre de Cultura Contemporània - ECPv5.1.6//NONSGML v1.0//EN
CALSCALE:GREGORIAN
METHOD:PUBLISH
X-WR-CALNAME:Octubre Centre de Cultura Contemporània
X-ORIGINAL-URL:https://octubre.cat
X-WR-CALDESC:Events for Octubre Centre de Cultura Contemporània
BEGIN:VTIMEZONE
TZID:Europe/Andorra
BEGIN:DAYLIGHT
TZOFFSETFROM:+0100
TZOFFSETTO:+0200
TZNAME:CEST
DTSTART:20190331T010000
END:DAYLIGHT
BEGIN:STANDARD
TZOFFSETFROM:+0200
TZOFFSETTO:+0100
TZNAME:CET
DTSTART:20191027T010000
END:STANDARD
END:VTIMEZONE
BEGIN:VEVENT
DTSTART;TZID=Europe/Andorra:20190124T180000
DTEND;TZID=Europe/Andorra:20190124T180000
DTSTAMP:20260421T140639
CREATED:20200729T173233Z
LAST-MODIFIED:20200729T191020Z
UID:11338-1548352800-1548352800@octubre.cat
SUMMARY:Sessió de cinema sobre el Premi Nobel de Literatura
DESCRIPTION:Dijous 24 de gener a les 18.00h. Projecció del film The remains of the day de James Ivory\, basada en la novel·la de Kazuo Ishiguro\, premi Nobel de Literatura 2017.	 \n  \n  \n\n 	 El 2018 no es va atorgar el Premi Nobel de Literatura.  En el seu lloc es realitzarà la projecció del film The remains of the day de James Ivory (1993)\, basada en la novel·la de Kazuo Ishiguro\, premi Nobel de Literatura 2017.  Comentada per: Lola Nomdedeu i Octavi Monsonís\, lectors d’Ishiguro.   The Remains of the Day  En 1958\, Stevens\, un perfecte majordom\, viatja per Anglaterra. Ara treballa per a un milionari americà que és el nou propietari de Darlington Hall\, mansió que va viure la seua etapa de major esplendor vint anys abans\, quan el seu amo\, un aristòcrata britànic\, reunia a casa als personatges més influents dels anys 30\, una època crucial per al futur d’Europa. Aquesta circumstància va permetre a Stevens ser testimoni de converses sobre els fets polítics més importants del moment. Al mateix temps\, la seua rutinària vida personal va sofrir un inesperat canvi amb l’arribada de la senyoreta Kenton\, la nova majordoma.  Direcció: James Ivory (1993) Guió: Ruth Prawer Jhabvala sobre la novel·la de Kazuo Ishiguro Música: Richard Robbins Repartiment: Anthony Hopkins\, Emma Thompson\, James Fox\, Christopher Reeve\, Peter Vaughan\, Hugh Grant\, Michael Lonsdale\, Tim Pigott-Smith\, Paula Jacobs\, Ben Chaplin Producció: Columbia / Merchant Ivory Production Durada: 134’
URL:https://octubre.cat/activitat/sessio-de-cinema-sobre-el-premi-nobel-de-literatura/
LOCATION:Sala d’actes
CATEGORIES:Espai Ciència
ATTACH;FMTTYPE=image/jpeg:https://octubre.cat/www/wp-content/uploads/2020/07/activitat3183.jpg
END:VEVENT
END:VCALENDAR