BEGIN:VCALENDAR
VERSION:2.0
PRODID:-//Octubre Centre de Cultura Contemporània - ECPv5.1.6//NONSGML v1.0//EN
CALSCALE:GREGORIAN
METHOD:PUBLISH
X-WR-CALNAME:Octubre Centre de Cultura Contemporània
X-ORIGINAL-URL:https://octubre.cat
X-WR-CALDESC:Events for Octubre Centre de Cultura Contemporània
BEGIN:VTIMEZONE
TZID:Europe/Andorra
BEGIN:DAYLIGHT
TZOFFSETFROM:+0100
TZOFFSETTO:+0200
TZNAME:CEST
DTSTART:20090329T010000
END:DAYLIGHT
BEGIN:STANDARD
TZOFFSETFROM:+0200
TZOFFSETTO:+0100
TZNAME:CET
DTSTART:20091025T010000
END:STANDARD
END:VTIMEZONE
BEGIN:VEVENT
DTSTART;TZID=Europe/Andorra:20090925T200000
DTEND;TZID=Europe/Andorra:20090925T200000
DTSTAMP:20260421T014442
CREATED:20200729T182546Z
LAST-MODIFIED:20200729T182546Z
UID:12896-1253908800-1253908800@octubre.cat
SUMMARY:Serpentina
DESCRIPTION:Divendres 25 de setembre\, a les 20.00h: “Intercanvis”. Serpentina.   \n  \n  \n\nPaco i Maria Tamarit són Serpentina\, un altre duet\, en aquest cas valencià\, dedicat al conreu del pop en les seues formes més pures. Cançons melòdiques de format clàssic que remeten al pop francès i britànic dels 60\, a grups espanyols com Vainica Doble i Solera\, però també a la bossa\, el lounge i grups contemporanis com són The Cardigans o Parade.   Els seus dos àlbums\, Blanca mañana (2004) i Planeando en tu azotea (2008) conformen un estil executat sempre amb exquisidesa i mestria. Paco és\, a més\, membre de Señor Mostaza\, altra de les grandes bandes sorgides a València en els últims anys i col·labora assíduament amb músics com Guillemka.
URL:https://octubre.cat/activitat/serpentina/
LOCATION:No definit
CATEGORIES:Cicle de música pop
ATTACH;FMTTYPE=image/jpeg:https://octubre.cat/www/wp-content/uploads/2020/07/activitat929.jpg
END:VEVENT
END:VCALENDAR