BEGIN:VCALENDAR
VERSION:2.0
PRODID:-//Octubre Centre de Cultura Contemporània - ECPv5.1.6//NONSGML v1.0//EN
CALSCALE:GREGORIAN
METHOD:PUBLISH
X-WR-CALNAME:Octubre Centre de Cultura Contemporània
X-ORIGINAL-URL:https://octubre.cat
X-WR-CALDESC:Events for Octubre Centre de Cultura Contemporània
BEGIN:VTIMEZONE
TZID:Europe/Andorra
BEGIN:DAYLIGHT
TZOFFSETFROM:+0100
TZOFFSETTO:+0200
TZNAME:CEST
DTSTART:20090329T010000
END:DAYLIGHT
BEGIN:STANDARD
TZOFFSETFROM:+0200
TZOFFSETTO:+0100
TZNAME:CET
DTSTART:20091025T010000
END:STANDARD
END:VTIMEZONE
BEGIN:VEVENT
DTSTART;TZID=Europe/Andorra:20090324T193000
DTEND;TZID=Europe/Andorra:20090324T193000
DTSTAMP:20260421T093244
CREATED:20200729T182345Z
LAST-MODIFIED:20200729T182345Z
UID:12783-1237923000-1237923000@octubre.cat
SUMMARY:Serge Latouche\, teòric del 'decreixement'
DESCRIPTION:Dimarts 24 de març\, a les 19.30h: Conferència a càrrec de Serge Latouche\, professor emèrit d’Economia a la Universitat París-Sud i teòric del decreixement. Organitzat per l’Institut del Territori.  \n  \n  \n\n“El decreixement\, una alternativa per a salvar el planeta”\, conferència a càrrec de Serge Latouche\, professor emèrit d’Economia de la Universitat París XI.   El creixement sostingut\, base del sistema neo-liberal\, no és possible. Ni tan sols\, encara que a més llarg termini\, l’anomenat desenvolupament sostenible. El decreixement advoca per una reducció dràstica del consum de recursos i\, en termes ecològics\, per una disminució urgent dels seus efectes perniciosos sobre el planeta.  Serge Latouche (Vannes\, 1940) és economista i filòsof de formació i antropòlog per experiència. Es va formar en les universitats de Lille i de París i actualment exerceix com a professor emèrit de Ciències Econòmiques en la Universitat de París-Sud (XI-Sceau/Orsay)\, tasca que compagina amb la presidència de La Ligne d’Horizon i de l’Institut d’Estudis Econòmics i Socials per al Decreixement Sostenible\, fundat per Nicholas-Georgescu Roegen. Des d’aquest institut\, editen la revista La*Décroissance (Journal de la joie de vivre).   En els darrers 25 anys\, aquest “objector del creixement”\, com li agrada definir-se\, ha contribuït\, com pocs intel·lectuals\, a la clarificació i la maduració del concepte entorn del qual s’han fonamentat els nous moviments globals. Durant els anys 70\, va passar una llarga temporada a l’Àfrica occidental\, des d’on va madurar el seu pensament\, que de les posicions marxistes tradicionals derivà cap a una crítica radical de la ideologia del progrés i del desenvolupament\, fins i tot en les seues versions més esquerranes.
URL:https://octubre.cat/activitat/serge-latouche-teoric-del-decreixement/
LOCATION:No definit
CATEGORIES:Institut del Territori
ATTACH;FMTTYPE=image/jpeg:https://octubre.cat/www/wp-content/uploads/2020/07/activitat808.jpg
END:VEVENT
END:VCALENDAR